Workbook

Sheet Introduction
A5: Ce fichier permet d’assurer le suivi du temps de travail des salariés, en distinguant le temps consacré à chaque projet, activité ou type de tâche. Il permet notamment de connaître le nombre d’heures réalisées sur chaque projet, de faciliter le suivi des temps de travail et de disposer d’une base pour les bilans et justificatifs des projets financés.
A7: Une page d’introduction présente le fonctionnement du fichier et explique aux salariés comment renseigner leur feuille de temps.
A10: Il permet aussi de gérer ces heures supplémentaires et ces congès en fonction de son type de contrat 35h, 39h et Contrat cadre.

Sheet Janvier
AM1: 1 | AN1: Janvier | AO1: 2025
AM2: 2 | AN2: Février | AO2: 2026
AN3: Mars | AO3: 2027
A4: Nom du.de la salarié.e | AN4: Avril | AO4: 2028
A5: Poste occupé | AN5: Mai | AO5: 2029
A6: Emploi à temps plein ou partiel | AN6: Juin | AO6: 2030
AN7: Juillet | AO7: 2031
B8: =DATE(AM2+2024,AM1,1) -> 46023 | C8: =B8+1 -> 46024 | D8: =C8+1 -> 46025 | E8: =D8+1 -> 46026 | F8: =E8+1 -> 46027 | G8: =F8+1 -> 46028 | H8: =G8+1 -> 46029 | I8: =H8+1 -> 46030 | J8: =I8+1 -> 46031 | ... AF8: =AE8+1 -> 46053 | AG8: Total en heure | AH8: Total en jour | AN8: Août | AO8: 2032
A9: Absences | AG9: =I30 -> 0 | AH9: =J30 -> 0 | AN9: Septembre | AO9: 2033
A10: Projet 1 | AG10: =SUM(Tableau1[[#This Row],[Colonne2]:[Colonne32]]) -> 0 | AH10: =ROUNDUP(Tableau1[[#This Row],[Colonne33]]/7,1) -> 0 | AN10: Octobre | AO10: 2034
A11: Projet 2 | AG11: =SUM(Tableau1[[#This Row],[Colonne2]:[Colonne32]]) -> 0 | AH11: =ROUNDUP(Tableau1[[#This Row],[Colonne33]]/7,1) -> 0 | AN11: Novembre | AO11: 2035
A12: Type d'action 1 | AG12: =SUM(Tableau1[[#This Row],[Colonne2]:[Colonne32]]) -> 0 | AH12: =ROUNDUP(Tableau1[[#This Row],[Colonne33]]/7,1) -> 0 | AN12: Décembre | AO12: 2036
A13: ou Type d'action 2 | AG13: =SUM(Tableau1[[#This Row],[Colonne2]:[Colonne32]]) -> 0 | AH13: =ROUNDUP(Tableau1[[#This Row],[Colonne33]]/7,1) -> 0
A14: ex 3 | AG14: =SUM(Tableau1[[#This Row],[Colonne2]:[Colonne32]]) -> 0 | AH14: =ROUNDUP(Tableau1[[#This Row],[Colonne33]]/7,1) -> 0
AG15: =SUM(Tableau1[[#This Row],[Colonne2]:[Colonne32]]) -> 0 | AH15: =ROUNDUP(Tableau1[[#This Row],[Colonne33]]/7,1) -> 0
AH16: =ROUNDUP(Tableau1[[#This Row],[Colonne33]]/7,1) -> 0
AG17: =SUM(Tableau1[[#This Row],[Colonne2]:[Colonne32]]) -> 0 | AH17: =ROUNDUP(Tableau1[[#This Row],[Colonne33]]/7,1) -> 0
AG18: =SUM(Tableau1[[#This Row],[Colonne2]:[Colonne32]]) -> 0 | AH18: =ROUNDUP(Tableau1[[#This Row],[Colonne33]]/7,1) -> 0
AG19: =SUM(Tableau1[[#This Row],[Colonne2]:[Colonne32]]) -> 0 | AH19: =ROUNDUP(Tableau1[[#This Row],[Colonne33]]/7,1) -> 0
AG20: =SUM(Tableau1[[#This Row],[Colonne2]:[Colonne32]]) -> 0 | AH20: =ROUNDUP(Tableau1[[#This Row],[Colonne33]]/7,1) -> 0
AG21: =SUM(Tableau1[[#This Row],[Colonne2]:[Colonne32]]) -> 0 | AH21: =ROUNDUP(Tableau1[[#This Row],[Colonne33]]/7,1) -> 0
A22: Total | B22: =SUM(B10:B21) -> 0 | C22: =SUM(C10:C21) -> 0 | D22: =SUM(D10:D21) -> 0 | E22: =SUM(E10:E21) -> 0 | F22: =SUM(F10:F21) -> 0 | G22: =SUM(G10:G21) -> 0 | H22: =SUM(H10:H21) -> 0 | I22: =SUM(I10:I21) -> 0 | ... AF22: =SUM(AF10:AF21) -> 0 | AG22: =SUM(Tableau1[[#This Row],[Colonne2]:[Colonne32]]) -> 0 | AH22: =ROUNDUP(Tableau1[[#This Row],[Colonne33]]/7,1) -> 0
A23: TOTAL JOUR | B23: =IF(B22=0,0,1) -> 0 | C23: =IF(C22=0,0,1) -> 0 | D23: =IF(D22=0,0,1) -> 0 | E23: =IF(E22=0,0,1) -> 0 | F23: =IF(F22=0,0,1) -> 0 | G23: =IF(G22=0,0,1) -> 0 | H23: =IF(H22=0,0,1) -> 0 | I23: =IF(I22=0,0,1) -> 0 | K23: =IF(K22=0,0,1) -> 0 | L23: =IF(L22=0,0,1) -> 0 | M23: =IF(M22=0,0,1) -> 0 | N23: =IF(N22=0,0,1) -> 0 | O23: =IF(O22=0,0,1) -> 0 | P23: =IF(P22=0,0,1) -> 0 | Q23: =IF(Q22=0,0,1) -> 0 | R23: =IF(R22=0,0,1) -> 0 | ... AF23: =IF(AF22=0,0,1) -> 0 | AG23: =SUM(B23:AF23) -> 0 | AH23: =ROUNDUP(Tableau1[[#This Row],[Colonne33]]/7,1) -> 0
A25: Absences | K25: TOTAL DU MOIS CONTRAT CADRE | R25: TOTAL DU MOIS 39h | AA25: TOTAL DU MOIS 35h
A26: Arrêt Maladie | B26: AM | I26: =COUNTIF(B9:AF9,"AM") -> 0 | K26: Total des jours du mois | P26: =AG23 -> 0 | R26: Total des heures du mois | W26: =AG22 -> 0 | AA26: Total des heures du mois | AF26: =AG22 -> 0
A27: Jours Fériés | B27: JF | I27: =COUNTIF(B9:AF9,"JF") -> 0 | K27: Total de jour à fairE Jusqu'au 15 mai | R27: Total | AA27: Total
A28: Congés Annuels | B28: CA | I28: =COUNTIF(B9:AF9,"CA") -> 0 | K28: Total de jour restant | R28: Total suppl M | AA28: Total suppl M
A29: RTT | B29: RTT | I29: =COUNTIF(B9:AF9,"RTT") -> 0 | R29: Total suppl M-1 | AA29: Total suppl M-1 | AH29: Remplir le restant d'heure de l'année dernière
A30: Total | I30: =SUM(I26:I29) -> 0 | R30: Total H Supp cumulés | AA30: Total H Supp cumulés | AF30: =AF28+AF29 -> 0

Sheet Février
AM1: 2 | AN1: Janvier | AO1: 2025
AM2: 2 | AN2: Février | AO2: 2026
AN3: Mars | AO3: 2027
A4: Nom du.de la salarié.e | AN4: Avril | AO4: 2028
A5: Poste occupé | AN5: Mai | AO5: 2029
A6: Emploi à temps plein ou partiel | AN6: Juin | AO6: 2030
AN7: Juillet | AO7: 2031
B8: =DATE(AM2+2024,AM1,1) -> 46054 | C8: =B8+1 -> 46055 | D8: =C8+1 -> 46056 | E8: =D8+1 -> 46057 | F8: =E8+1 -> 46058 | G8: =F8+1 -> 46059 | H8: =G8+1 -> 46060 | I8: =H8+1 -> 46061 | J8: =I8+1 -> 46062 | ... AC8: =AB8+1 -> 46081 | AG8: Total | AH8: Total | AN8: Août | AO8: 2032
A9: Absences | AG9: =I30 -> 0 | AH9: =J30 -> 0 | AN9: Septembre | AO9: 2033
A10: Projet 1 | AG10: =SUM(Tableau14[[#This Row],[Colonne2]:[Colonne32]]) -> 0 | AH10: =ROUNDUP(Tableau14[[#This Row],[Colonne33]]/7,1) -> 0 | AN10: Octobre | AO10: 2034
A11: Projet 2 | AG11: =SUM(Tableau14[[#This Row],[Colonne2]:[Colonne32]]) -> 0 | AH11: =ROUNDUP(Tableau14[[#This Row],[Colonne33]]/7,1) -> 0 | AN11: Novembre | AO11: 2035
A12: Type d'action 1 | AG12: =SUM(Tableau14[[#This Row],[Colonne2]:[Colonne32]]) -> 0 | AH12: =ROUNDUP(Tableau14[[#This Row],[Colonne33]]/7,1) -> 0 | AN12: Décembre | AO12: 2036
A13: ou Type d'action 2 | AG13: =SUM(Tableau14[[#This Row],[Colonne2]:[Colonne32]]) -> 0 | AH13: =ROUNDUP(Tableau14[[#This Row],[Colonne33]]/7,1) -> 0
A14: ex 3 | AG14: =SUM(Tableau14[[#This Row],[Colonne2]:[Colonne32]]) -> 0 | AH14: =ROUNDUP(Tableau14[[#This Row],[Colonne33]]/7,1) -> 0
AG15: =SUM(Tableau14[[#This Row],[Colonne2]:[Colonne32]]) -> 0 | AH15: =ROUNDUP(Tableau14[[#This Row],[Colonne33]]/7,1) -> 0
AH16: =ROUNDUP(Tableau14[[#This Row],[Colonne33]]/7,1) -> 0
AG17: =SUM(Tableau14[[#This Row],[Colonne2]:[Colonne32]]) -> 0 | AH17: =ROUNDUP(Tableau14[[#This Row],[Colonne33]]/7,1) -> 0
AG18: =SUM(Tableau14[[#This Row],[Colonne2]:[Colonne32]]) -> 0 | AH18: =ROUNDUP(Tableau14[[#This Row],[Colonne33]]/7,1) -> 0
AG19: =SUM(Tableau14[[#This Row],[Colonne2]:[Colonne32]]) -> 0 | AH19: =ROUNDUP(Tableau14[[#This Row],[Colonne33]]/7,1) -> 0
AG20: =SUM(Tableau14[[#This Row],[Colonne2]:[Colonne32]]) -> 0 | AH20: =ROUNDUP(Tableau14[[#This Row],[Colonne33]]/7,1) -> 0
AG21: =SUM(Tableau14[[#This Row],[Colonne2]:[Colonne32]]) -> 0 | AH21: =ROUNDUP(Tableau14[[#This Row],[Colonne33]]/7,1) -> 0
A22: Total | B22: =SUM(B10:B21) -> 0 | C22: =SUM(C10:C21) -> 0 | D22: =SUM(D10:D21) -> 0 | E22: =SUM(E10:E21) -> 0 | F22: =SUM(F10:F21) -> 0 | G22: =SUM(G10:G21) -> 0 | H22: =SUM(H10:H21) -> 0 | I22: =SUM(I10:I21) -> 0 | ... AC22: =SUM(AC10:AC21) -> 0 | AG22: =SUM(Tableau1[[#This Row],[Colonne2]:[Colonne32]]) -> 0 | AH22: =ROUNDUP(Tableau14[[#This Row],[Colonne33]]/7,1) -> 0
A23: TOTAL JOUR | B23: =IF(B22=0,0,1) -> 0 | C23: =IF(C22=0,0,1) -> 0 | D23: =IF(D22=0,0,1) -> 0 | E23: =IF(E22=0,0,1) -> 0 | F23: =IF(F22=0,0,1) -> 0 | G23: =IF(G22=0,0,1) -> 0 | H23: =IF(H22=0,0,1) -> 0 | I23: =IF(I22=0,0,1) -> 0 | ... AC23: =IF(AC22=0,0,1) -> 0 | AG23: =SUM(B23:AF23) -> 0 | AH23: =ROUNDUP(Tableau14[[#This Row],[Colonne33]]/7,1) -> 0
A25: Absences | K25: TOTAL DU MOIS CONTRAT CADRE | R25: TOTAL DU MOIS 39h | AA25: TOTAL DU MOIS 35h
A26: Arrêt Maladie | B26: AM | I26: =COUNTIF(B9:AF9,"AM") -> 0 | K26: Total des jours du mois | P26: =AG23 -> 0 | R26: Total des heures du mois | W26: =AG22 -> 0 | AA26: Total des heures du mois | AF26: =AG22 -> 0
A27: Jours Fériés | B27: JF | I27: =COUNTIF(B9:AF9,"JF") -> 0 | K27: Total de jour à faire an | P27: =Janvier!P28 -> 0 | R27: Total | AA27: Total
A28: Congés Annuels | B28: CA | I28: =COUNTIF(B9:AF9,"CA") -> 0 | K28: Total de jour restant | P28: =P27-P26 -> 0 | R28: Total suppl M | W28: =W26-W27 -> 0 | AA28: Total suppl M | AF28: =AF26-AF27 -> 0
A29: Autre Absence (récup, sans solde, etc.) | B29: AA | I29: =COUNTIF(B9:AF9,"AA") -> 0 | R29: Total suppl M-1 | W29: =Janvier!W30 -> 0 | AA29: Total suppl M-1 | AF29: =Janvier!AF30 -> 0
A30: Total | I30: =SUM(I26:I29) -> 0 | R30: Total H Supp cumulés | W30: =W28+W29 -> 0 | AA30: Total H Supp cumulés | AF30: =AF28+AF29 -> 0

Sheet Mars
AM1: 3 | AN1: Janvier | AO1: 2025
AM2: 2 | AN2: Février | AO2: 2026
AN3: Mars | AO3: 2027
A4: Nom du.de la salarié.e | B4: Ariane Bergeon | AN4: Avril | AO4: 2028
A5: Poste occupé | B5: Directrice | AN5: Mai | AO5: 2029
A6: Emploi à temps plein ou partiel | B6: Temps plein | AN6: Juin | AO6: 2030
AN7: Juillet | AO7: 2031
B8: =DATE(AM2+2024,AM1,1) -> 46082 | C8: =B8+1 -> 46083 | D8: =C8+1 -> 46084 | E8: =D8+1 -> 46085 | F8: =E8+1 -> 46086 | G8: =F8+1 -> 46087 | H8: =G8+1 -> 46088 | I8: =H8+1 -> 46089 | J8: =I8+1 -> 46090 | ... AF8: =AE8+1 -> 46112 | AG8: Total | AH8: Total | AN8: Août | AO8: 2032
A9: Absences | AG9: =I30 -> 0 | AH9: =J30 -> 0 | AN9: Septembre | AO9: 2033
A10: Projet 1 | AG10: =SUM(Tableau145[[#This Row],[Colonne2]:[Colonne32]]) -> 0 | AH10: =ROUNDUP(Tableau145[[#This Row],[Colonne33]]/7,1) -> 0 | AN10: Octobre | AO10: 2034
A11: Projet 2 | AG11: =SUM(Tableau145[[#This Row],[Colonne2]:[Colonne32]]) -> 0 | AH11: =ROUNDUP(Tableau145[[#This Row],[Colonne33]]/7,1) -> 0 | AN11: Novembre | AO11: 2035
A12: Type d'action 1 | AG12: =SUM(Tableau145[[#This Row],[Colonne2]:[Colonne32]]) -> 0 | AH12: =ROUNDUP(Tableau145[[#This Row],[Colonne33]]/7,1) -> 0 | AN12: Décembre | AO12: 2036
A13: ou Type d'action 2 | AG13: =SUM(Tableau145[[#This Row],[Colonne2]:[Colonne32]]) -> 0 | AH13: =ROUNDUP(Tableau145[[#This Row],[Colonne33]]/7,1) -> 0
A14: ex 3 | AG14: =SUM(Tableau145[[#This Row],[Colonne2]:[Colonne32]]) -> 0 | AH14: =ROUNDUP(Tableau145[[#This Row],[Colonne33]]/7,1) -> 0
AG15: =SUM(Tableau145[[#This Row],[Colonne2]:[Colonne32]]) -> 0 | AH15: =ROUNDUP(Tableau145[[#This Row],[Colonne33]]/7,1) -> 0
AH16: =ROUNDUP(Tableau145[[#This Row],[Colonne33]]/7,1) -> 0
AG17: =SUM(Tableau145[[#This Row],[Colonne2]:[Colonne32]]) -> 0 | AH17: =ROUNDUP(Tableau145[[#This Row],[Colonne33]]/7,1) -> 0
AG18: =SUM(Tableau145[[#This Row],[Colonne2]:[Colonne32]]) -> 0 | AH18: =ROUNDUP(Tableau145[[#This Row],[Colonne33]]/7,1) -> 0
AG19: =SUM(Tableau145[[#This Row],[Colonne2]:[Colonne32]]) -> 0 | AH19: =ROUNDUP(Tableau145[[#This Row],[Colonne33]]/7,1) -> 0
AG20: =SUM(Tableau145[[#This Row],[Colonne2]:[Colonne32]]) -> 0 | AH20: =ROUNDUP(Tableau145[[#This Row],[Colonne33]]/7,1) -> 0
AG21: =SUM(Tableau145[[#This Row],[Colonne2]:[Colonne32]]) -> 0 | AH21: =ROUNDUP(Tableau145[[#This Row],[Colonne33]]/7,1) -> 0
A22: Total | B22: =SUM(B10:B21) -> 0 | C22: =SUM(C10:C21) -> 0 | D22: =SUM(D10:D21) -> 0 | E22: =SUM(E10:E21) -> 0 | F22: =SUM(F10:F21) -> 0 | G22: =SUM(G10:G21) -> 0 | H22: =SUM(H10:H21) -> 0 | I22: =SUM(I10:I21) -> 0 | ... AF22: =SUM(AF10:AF21) -> 0 | AG22: =SUM(Tableau1[[#This Row],[Colonne2]:[Colonne32]]) -> 0 | AH22: =ROUNDUP(Tableau145[[#This Row],[Colonne33]]/7,1) -> 0
A23: TOTAL JOUR | B23: =IF(B22=0,0,1) -> 0 | C23: =IF(C22=0,0,1) -> 0 | D23: =IF(D22=0,0,1) -> 0 | E23: =IF(E22=0,0,1) -> 0 | F23: =IF(F22=0,0,1) -> 0 | G23: =IF(G22=0,0,1) -> 0 | H23: =IF(H22=0,0,1) -> 0 | I23: =IF(I22=0,0,1) -> 0 | ... AF23: =IF(AF22=0,0,1) -> 0 | AG23: =SUM(B23:AF23) -> 0 | AH23: =ROUNDUP(Tableau145[[#This Row],[Colonne33]]/7,1) -> 0
A25: Absences | K25: TOTAL DU MOIS CONTRAT CADRE | R25: TOTAL DU MOIS 39h | AA25: TOTAL DU MOIS 35h
A26: Arrêt Maladie | B26: AM | I26: =COUNTIF(B9:AF9,"AM") -> 0 | K26: Total des jours du mois | P26: =AG23 -> 0 | R26: Total des heures du mois | W26: =AG22 -> 0 | AA26: Total des heures du mois | AF26: =AG22 -> 0
A27: Jours Fériés | B27: JF | I27: =COUNTIF(B9:AF9,"JF") -> 0 | K27: Total de jour à faire an | P27: =Février!P28 -> 0 | R27: Total | AA27: Total
A28: Congés Annuels | B28: CA | I28: =COUNTIF(B9:AF9,"CA") -> 0 | K28: Total de jour restant | P28: =P27-P26 -> 0 | R28: Total suppl M | W28: =W26-W27 -> 0 | AA28: Total suppl M | AF28: =AF26-AF27 -> 0
A29: Autre Absence (récup, sans solde, etc.) | B29: AA | I29: =COUNTIF(B9:AF9,"AA") -> 0 | R29: Total suppl M-1 | W29: =Février!W30 -> 0 | AA29: Total suppl M-1 | AF29: =Février!AF30 -> 0
A30: Total | I30: =SUM(I26:I29) -> 0 | R30: Total H Supp cumulés | W30: =W28+W29 -> 0 | AA30: Total H Supp cumulés | AF30: =AF28+AF29 -> 0

Sheet Avril
AM1: 4 | AN1: Janvier | AO1: 2025
AM2: 2 | AN2: Février | AO2: 2026
AN3: Mars | AO3: 2027
A4: Nom du.de la salarié.e | B4: Ariane Bergeon | AN4: Avril | AO4: 2028
A5: Poste occupé | B5: Directrice | AN5: Mai | AO5: 2029
A6: Emploi à temps plein ou partiel | B6: Temps plein | AN6: Juin | AO6: 2030
AN7: Juillet | AO7: 2031
B8: =DATE(AM2+2024,AM1,1) -> 46113 | C8: =B8+1 -> 46114 | D8: =C8+1 -> 46115 | E8: =D8+1 -> 46116 | F8: =E8+1 -> 46117 | G8: =F8+1 -> 46118 | H8: =G8+1 -> 46119 | I8: =H8+1 -> 46120 | J8: =I8+1 -> 46121 | ... AF8: =AE8+1 -> 46143 | AG8: Total | AH8: Total | AN8: Août | AO8: 2032
A9: Absences | G9: JF | K9: CP | N9: CP | O9: CP | P9: CP | Q9: CP | R9: CP | U9: CP | V9: CP | W9: CP | X9: CP | Y9: CP | AB9: JF | AF9: JF | AH9: =J30 -> 0 | AN9: Septembre | AO9: 2033
A10: Projet 1 | AG10: =SUM(Tableau146[[#This Row],[Colonne2]:[Colonne32]]) -> 0 | AH10: =ROUNDUP(Tableau146[[#This Row],[Colonne33]]/7,1) -> 0 | AN10: Octobre | AO10: 2034
A11: Projet 2 | AG11: =SUM(Tableau146[[#This Row],[Colonne2]:[Colonne32]]) -> 0 | AH11: =ROUNDUP(Tableau146[[#This Row],[Colonne33]]/7,1) -> 0 | AN11: Novembre | AO11: 2035
A12: Type d'action 1 | AG12: =SUM(Tableau146[[#This Row],[Colonne2]:[Colonne32]]) -> 0 | AH12: =ROUNDUP(Tableau146[[#This Row],[Colonne33]]/7,1) -> 0 | AN12: Décembre | AO12: 2036
A13: ou Type d'action 2 | AG13: =SUM(Tableau146[[#This Row],[Colonne2]:[Colonne32]]) -> 0 | AH13: =ROUNDUP(Tableau146[[#This Row],[Colonne33]]/7,1) -> 0
A14: ex 3 | AG14: =SUM(Tableau146[[#This Row],[Colonne2]:[Colonne32]]) -> 0 | AH14: =ROUNDUP(Tableau146[[#This Row],[Colonne33]]/7,1) -> 0
AG15: =SUM(Tableau146[[#This Row],[Colonne2]:[Colonne32]]) -> 0 | AH15: =ROUNDUP(Tableau146[[#This Row],[Colonne33]]/7,1) -> 0
AG16: =SUM(Tableau146[[#This Row],[Colonne2]:[Colonne32]]) -> 0 | AH16: =ROUNDUP(Tableau146[[#This Row],[Colonne33]]/7,1) -> 0
AG17: =SUM(Tableau146[[#This Row],[Colonne2]:[Colonne32]]) -> 0 | AH17: =ROUNDUP(Tableau146[[#This Row],[Colonne33]]/7,1) -> 0
AG18: =SUM(Tableau146[[#This Row],[Colonne2]:[Colonne32]]) -> 0 | AH18: =ROUNDUP(Tableau146[[#This Row],[Colonne33]]/7,1) -> 0
AG19: =SUM(Tableau146[[#This Row],[Colonne2]:[Colonne32]]) -> 0 | AH19: =ROUNDUP(Tableau146[[#This Row],[Colonne33]]/7,1) -> 0
AG20: =SUM(Tableau146[[#This Row],[Colonne2]:[Colonne32]]) -> 0 | AH20: =ROUNDUP(Tableau146[[#This Row],[Colonne33]]/7,1) -> 0
AG21: =SUM(Tableau146[[#This Row],[Colonne2]:[Colonne32]]) -> 0 | AH21: =ROUNDUP(Tableau146[[#This Row],[Colonne33]]/7,1) -> 0
A22: Total | B22: =SUM(B10:B21) -> 0 | C22: =SUM(C10:C21) -> 0 | D22: =SUM(D10:D21) -> 0 | E22: =SUM(E10:E21) -> 0 | F22: =SUM(F10:F21) -> 0 | G22: =SUM(G10:G21) -> 0 | H22: =SUM(H10:H21) -> 0 | I22: =SUM(I10:I21) -> 0 | ... AF22: =SUM(AF10:AF21) -> 0 | AG22: =SUM(Tableau146[[#This Row],[Colonne2]:[Colonne32]]) -> 0 | AH22: =ROUNDUP(Tableau146[[#This Row],[Colonne33]]/7,1) -> 0
A23: TOTAL JOUR | B23: =IF(B22=0,0,1) -> 0 | C23: =IF(C22=0,0,1) -> 0 | D23: =IF(D22=0,0,1) -> 0 | E23: =IF(E22=0,0,1) -> 0 | F23: =IF(F22=0,0,1) -> 0 | G23: =IF(G22=0,0,1) -> 0 | H23: =IF(H22=0,0,1) -> 0 | I23: =IF(I22=0,0,1) -> 0 | ... AF23: =IF(AF22=0,0,1) -> 0 | AG23: =SUM(B23:AF23) -> 0 | AH23: =ROUNDUP(Tableau146[[#This Row],[Colonne33]]/7,1) -> 0
A24: Absences | K24: TOTAL DU MOIS CONTRAT CADRE | R24: TOTAL DU MOIS 39h | AA24: TOTAL DU MOIS 35h
A25: Arrêt Maladie | B25: AM | I25: =COUNTIF(B9:AF9,"AM") -> 0 | K25: Total des jours du mois | P25: =AG23 -> 0 | R25: Total des heures du mois | W25: =AG22 -> 0 | AA25: Total des heures du mois | AF25: =AG22 -> 0
A26: Jours Fériés | B26: JF | K26: Total de jour à faire an | P26: =Mars!P28 -> 0 | R26: Total | AA26: Total
A27: Congés Annuels | B27: CP | K27: Total de jour restant | P27: =P26-P25 -> 0 | R27: Total suppl M | W27: =W25-W26 -> 0 | AA27: Total suppl M | AF27: =AF25-AF26 -> 0
A28: Autre Absence (récup, sans solde, etc.) | B28: AA | I28: =COUNTIF(B9:AF9,"AA") -> 0 | R28: Total suppl M-1 | W28: =Mars!W30 -> 0 | AA28: Total suppl M-1 | AF28: =Mars!AF29 -> 0
A29: Total | I29: =SUM(I25:I28) -> 0 | R29: Total H Supp cumulés | W29: =W27+W28 -> 0 | AA29: Total H Supp cumulés | AF29: =AF27+AF28 -> 0

Sheet Mai
AM1: 5 | AN1: Janvier | AO1: 2025
AM2: 2 | AN2: Février | AO2: 2026
AN3: Mars | AO3: 2027
A4: Nom du.de la salarié.e | B4: Ariane Bergeon | AN4: Avril | AO4: 2028
A5: Poste occupé | B5: Directrice | AN5: Mai | AO5: 2029
A6: Emploi à temps plein ou partiel | B6: Temps plein | AN6: Juin | AO6: 2030
AN7: Juillet | AO7: 2031
B8: =DATE(AM2+2024,AM1,1) -> 46143 | C8: =B8+1 -> 46144 | D8: =C8+1 -> 46145 | E8: =D8+1 -> 46146 | F8: =E8+1 -> 46147 | G8: =F8+1 -> 46148 | H8: =G8+1 -> 46149 | I8: =H8+1 -> 46150 | J8: =I8+1 -> 46151 | ... AF8: =AE8+1 -> 46173 | AG8: Total | AH8: Total | AN8: Août | AO8: 2032
A9: Absences | AG9: =I30 -> 0 | AH9: =J31 -> 0 | AN9: Septembre | AO9: 2033
A10: Projet 1 | AG10: =SUM(Tableau147[[#This Row],[Colonne2]:[Colonne32]]) -> 0 | AH10: =ROUNDUP(Tableau147[[#This Row],[Colonne33]]/7,1) -> 0 | AN10: Octobre | AO10: 2034
A11: Projet 2 | AG11: =SUM(Tableau147[[#This Row],[Colonne2]:[Colonne32]]) -> 0 | AH11: =ROUNDUP(Tableau147[[#This Row],[Colonne33]]/7,1) -> 0 | AN11: Novembre | AO11: 2035
A12: Type d'action 1 | AG12: =SUM(Tableau147[[#This Row],[Colonne2]:[Colonne32]]) -> 0 | AH12: =ROUNDUP(Tableau147[[#This Row],[Colonne33]]/7,1) -> 0 | AN12: Décembre | AO12: 2036
A13: ou Type d'action 2 | AG13: =SUM(Tableau147[[#This Row],[Colonne2]:[Colonne32]]) -> 0 | AH13: =ROUNDUP(Tableau147[[#This Row],[Colonne33]]/7,1) -> 0
A14: ex 3 | AG14: =SUM(Tableau147[[#This Row],[Colonne2]:[Colonne32]]) -> 0 | AH14: =ROUNDUP(Tableau147[[#This Row],[Colonne33]]/7,1) -> 0
AG15: =SUM(Tableau147[[#This Row],[Colonne2]:[Colonne32]]) -> 0 | AH15: =ROUNDUP(Tableau147[[#This Row],[Colonne33]]/7,1) -> 0
AG16: =SUM(Tableau147[[#This Row],[Colonne2]:[Colonne32]]) -> 0 | AH16: =ROUNDUP(Tableau147[[#This Row],[Colonne33]]/7,1) -> 0 | AI16: =3*7 -> 21
AG17: =SUM(Tableau147[[#This Row],[Colonne2]:[Colonne32]]) -> 0 | AH17: =ROUNDUP(Tableau147[[#This Row],[Colonne33]]/7,1) -> 0
AG18: =SUM(Tableau147[[#This Row],[Colonne2]:[Colonne32]]) -> 0 | AH18: =ROUNDUP(Tableau147[[#This Row],[Colonne33]]/7,1) -> 0
AG19: =SUM(Tableau147[[#This Row],[Colonne2]:[Colonne32]]) -> 0 | AH19: =ROUNDUP(Tableau147[[#This Row],[Colonne33]]/7,1) -> 0 | AI19: =21-16 -> 5
AG20: =SUM(Tableau147[[#This Row],[Colonne2]:[Colonne32]]) -> 0 | AH20: =ROUNDUP(Tableau147[[#This Row],[Colonne33]]/7,1) -> 0
A22: Total | B22: =SUM(B10:B20) -> 0 | C22: =SUM(C10:C20) -> 0 | D22: =SUM(D10:D20) -> 0 | E22: =SUM(E10:E20) -> 0 | F22: =SUM(F10:F20) -> 0 | G22: =SUM(G10:G20) -> 0 | H22: =SUM(H10:H20) -> 0 | I22: =SUM(I10:I20) -> 0 | ... AF22: =SUM(AF10:AF20) -> 0 | AG22: =SUM(Tableau147[[#This Row],[Colonne2]:[Colonne32]]) -> 0 | AH22: =ROUNDUP(Tableau147[[#This Row],[Colonne33]]/7,1) -> 0
A23: TOTAL JOUR | B23: =IF(B22=0,0,1) -> 0 | C23: =IF(C22=0,0,1) -> 0 | D23: =IF(D22=0,0,1) -> 0 | E23: =IF(E22=0,0,1) -> 0 | F23: =IF(F22=0,0,1) -> 0 | G23: =IF(G22=0,0,1) -> 0 | H23: =IF(H22=0,0,1) -> 0 | I23: =IF(I22=0,0,1) -> 0 | ... AF23: =IF(AF22=0,0,1) -> 0 | AG23: =SUM(Tableau147[[#This Row],[Colonne2]:[Colonne32]]) -> 0 | AH23: =ROUNDUP(Tableau147[[#This Row],[Colonne33]]/7,1) -> 0
AH24: =ROUNDUP(Tableau147[[#This Row],[Colonne33]]/7,1) -> #VALUE!
A25: Absences | K25: TOTAL DU MOIS CONTRAT CADRE | R25: TOTAL DU MOIS 39h | AA25: TOTAL DU MOIS 35h
A26: Arrêt Maladie | B26: AM | I26: =COUNTIF(B9:AF9,"AM") -> 0 | K26: Total des jours du mois | P26: =AG23 -> 0 | R26: Total des heures du mois | W26: =AG22 -> 0 | AA26: Total des heures du mois | AF26: =AG22 -> 0
A27: Jours Fériés | B27: JF | I27: =COUNTIF(B9:AF9,"JF") -> 0 | K27: Total de jour à faire an | R27: Total | AA27: Total
A28: Congés Annuels | B28: CA | I28: =COUNTIF(B9:AF9,"CA") -> 0 | K28: Total de jour restant | P28: =P27-P26 -> 0 | R28: Total suppl M | W28: =W26-W27 -> 0 | AA28: Total suppl M | AF28: =AF26-AF27 -> 0
A29: Autre Absence (récup, sans solde, etc.) | B29: AA | I29: =COUNTIF(B9:AF9,"AA") -> 0 | R29: Total suppl M-1 | W29: =Avril!W29 -> 0 | AA29: Total suppl M-1 | AF29: =Avril!AF29 -> 0
A30: Total | I30: =SUM(I26:I29) -> 0 | R30: Total H Supp cumulés | W30: =W28+W29 -> 0 | AA30: Total H Supp cumulés | AF30: =AF28+AF29 -> 0

Sheet Juin
AM1: 6 | AN1: Janvier | AO1: 2025
AM2: 2 | AN2: Février | AO2: 2026
AN3: Mars | AO3: 2027
A4: Nom du.de la salarié.e | B4: Ariane Bergeon | AN4: Avril | AO4: 2028
A5: Poste occupé | B5: Directrice | AN5: Mai | AO5: 2029
A6: Emploi à temps plein ou partiel | B6: Temps plein | AN6: Juin | AO6: 2030
AN7: Juillet | AO7: 2031
B8: =DATE(AM2+2024,AM1,1) -> 46174 | C8: =B8+1 -> 46175 | D8: =C8+1 -> 46176 | E8: =D8+1 -> 46177 | F8: =E8+1 -> 46178 | G8: =F8+1 -> 46179 | H8: =G8+1 -> 46180 | I8: =H8+1 -> 46181 | J8: =I8+1 -> 46182 | ... AE8: =AD8+1 -> 46203 | AG8: Total | AH8: Total | AN8: Août | AO8: 2032
A9: Absences | AG9: =I30 -> 0 | AH9: =J31 -> 0 | AN9: Septembre | AO9: 2033
A10: Projet 1 | AG10: =SUM(Tableau148[[#This Row],[Colonne2]:[Colonne32]]) -> 0 | AH10: =ROUNDUP(Tableau148[[#This Row],[Colonne33]]/7,1) -> 0 | AN10: Octobre | AO10: 2034
A11: Projet 2 | AG11: =SUM(Tableau148[[#This Row],[Colonne2]:[Colonne32]]) -> 0 | AH11: =ROUNDUP(Tableau148[[#This Row],[Colonne33]]/7,1) -> 0 | AN11: Novembre | AO11: 2035
A12: Type d'action 1 | AG12: =SUM(Tableau148[[#This Row],[Colonne2]:[Colonne32]]) -> 0 | AH12: =ROUNDUP(Tableau148[[#This Row],[Colonne33]]/7,1) -> 0 | AN12: Décembre | AO12: 2036
A13: ou Type d'action 2 | AG13: =SUM(Tableau148[[#This Row],[Colonne2]:[Colonne32]]) -> 0 | AH13: =ROUNDUP(Tableau148[[#This Row],[Colonne33]]/7,1) -> 0
A14: ex 3 | AG14: =SUM(Tableau148[[#This Row],[Colonne2]:[Colonne32]]) -> 0 | AH14: =ROUNDUP(Tableau148[[#This Row],[Colonne33]]/7,1) -> 0
AG15: =SUM(Tableau148[[#This Row],[Colonne2]:[Colonne32]]) -> 0 | AH15: =ROUNDUP(Tableau148[[#This Row],[Colonne33]]/7,1) -> 0 | AI15: =Tableau148[[#This Row],[Colonne33]]/7 -> 0
AG16: =SUM(Tableau148[[#This Row],[Colonne2]:[Colonne32]]) -> 0 | AH16: =ROUNDUP(Tableau148[[#This Row],[Colonne33]]/7,1) -> 0
AG17: =SUM(Tableau148[[#This Row],[Colonne2]:[Colonne32]]) -> 0 | AH17: =ROUNDUP(Tableau148[[#This Row],[Colonne33]]/7,1) -> 0
AG18: =SUM(Tableau148[[#This Row],[Colonne2]:[Colonne32]]) -> 0 | AH18: =ROUNDUP(Tableau148[[#This Row],[Colonne33]]/7,1) -> 0
AG19: =SUM(Tableau148[[#This Row],[Colonne2]:[Colonne32]]) -> 0 | AH19: =ROUNDUP(Tableau148[[#This Row],[Colonne33]]/7,1) -> 0
AG20: =SUM(Tableau148[[#This Row],[Colonne2]:[Colonne32]]) -> 0 | AH20: =ROUNDUP(Tableau148[[#This Row],[Colonne33]]/7,1) -> 0
A22: Total | B22: =SUM(B10:B20) -> 0 | C22: =SUM(C10:C20) -> 0 | D22: =SUM(D10:D20) -> 0 | E22: =SUM(E10:E20) -> 0 | F22: =SUM(F10:F20) -> 0 | G22: =SUM(G10:G20) -> 0 | H22: =SUM(H10:H20) -> 0 | I22: =SUM(I10:I20) -> 0 | ... AE22: =SUM(AE10:AE20) -> 0 | AG22: =SUM(Tableau148[[#This Row],[Colonne2]:[Colonne32]]) -> 0 | AH22: =ROUNDUP(Tableau148[[#This Row],[Colonne33]]/7,1) -> 0
A23: TOTAL JOUR | B23: =IF(B22=0,0,1) -> 0 | C23: =IF(C22=0,0,1) -> 0 | D23: =IF(D22=0,0,1) -> 0 | E23: =IF(E22=0,0,1) -> 0 | F23: =IF(F22=0,0,1) -> 0 | G23: =IF(G22=0,0,1) -> 0 | H23: =IF(H22=0,0,1) -> 0 | I23: =IF(I22=0,0,1) -> 0 | ... AE23: =IF(AE22=0,0,1) -> 0 | AG23: =SUM(Tableau148[[#This Row],[Colonne2]:[Colonne32]]) -> 0 | AH23: =ROUNDUP(Tableau148[[#This Row],[Colonne33]]/7,1) -> 0
A25: Absences | K25: TOTAL DU MOIS CONTRAT CADRE | R25: TOTAL DU MOIS 39h | AA25: TOTAL DU MOIS 35h
A26: Arrêt Maladie | B26: AM | I26: =COUNTIF(B9:AF9,"AM") -> 0 | K26: Total des jours du mois | P26: =AG23 -> 0 | R26: Total des heures du mois | AA26: Total des heures du mois | AF26: =AG22 -> 0
A27: Jours Fériés | B27: JF | I27: =COUNTIF(B9:AF9,"JF") -> 0 | K27: Total de jour à faire an | R27: Total | AA27: Total
A28: Congés Annuels | B28: CA | I28: =COUNTIF(B9:AF9,"CA") -> 0 | K28: Total de jour restant | P28: =P27-P26 -> 0 | R28: Total suppl M | W28: =W26-W27 -> 0 | AA28: Total suppl M | AF28: =AF26-AF27 -> 0
A29: Autre Absence (récup, sans solde, etc.) | B29: AA | I29: =COUNTIF(B9:AF9,"AA") -> 0 | R29: Total suppl M-1 | W29: =Mai!W29 -> 0 | AA29: Total suppl M-1
A30: Total | I30: =SUM(I26:I29) -> 0 | R30: Total H Supp cumulés | W30: =W28+W29 -> 0 | AA30: Total H Supp cumulés | AF30: =AF28+AF29 -> 0

Sheet Juillet
AM1: 7 | AN1: Janvier | AO1: 2025
AM2: 2 | AN2: Février | AO2: 2026
AN3: Mars | AO3: 2027
A4: Nom du.de la salarié.e | B4: Ariane Bergeon | AN4: Avril | AO4: 2028
A5: Poste occupé | B5: Directrice | AN5: Mai | AO5: 2029
A6: Emploi à temps plein ou partiel | B6: Temps plein | AN6: Juin | AO6: 2030
AN7: Juillet | AO7: 2031
B8: =DATE(AM2+2024,AM1,1) -> 46204 | C8: =B8+1 -> 46205 | D8: =C8+1 -> 46206 | E8: =D8+1 -> 46207 | F8: =E8+1 -> 46208 | G8: =F8+1 -> 46209 | H8: =G8+1 -> 46210 | I8: =H8+1 -> 46211 | J8: =I8+1 -> 46212 | ... AF8: =AE8+1 -> 46234 | AG8: Total | AN8: Août | AO8: 2032
A9: Absences | O9: JF | AN9: Septembre | AO9: 2033
A10: Projet 1 | AG10: =SUM(Tableau149[[#This Row],[Colonne2]:[Colonne32]]) -> 0 | AN10: Octobre | AO10: 2034
A11: Projet 2 | AG11: =SUM(Tableau149[[#This Row],[Colonne2]:[Colonne32]]) -> 0 | AN11: Novembre | AO11: 2035
A12: Type d'action 1 | AG12: =SUM(Tableau149[[#This Row],[Colonne2]:[Colonne32]]) -> 0 | AN12: Décembre | AO12: 2036
A13: ou Type d'action 2 | AG13: =SUM(Tableau149[[#This Row],[Colonne2]:[Colonne32]]) -> 0
A14: ex 3 | AG14: =SUM(Tableau149[[#This Row],[Colonne2]:[Colonne32]]) -> 0
AG15: =SUM(Tableau149[[#This Row],[Colonne2]:[Colonne32]]) -> 0
AG16: =SUM(Tableau149[[#This Row],[Colonne2]:[Colonne32]]) -> 0
AG17: =SUM(Tableau149[[#This Row],[Colonne2]:[Colonne32]]) -> 0
AG18: =SUM(Tableau149[[#This Row],[Colonne2]:[Colonne32]]) -> 0
AG19: =SUM(Tableau149[[#This Row],[Colonne2]:[Colonne32]]) -> 0
AG20: =SUM(Tableau149[[#This Row],[Colonne2]:[Colonne32]]) -> 0 | AJ20: =30/7 -> 4.2857143
A22: Total | B22: =SUM(B10:B20) -> 0 | C22: =SUM(C10:C20) -> 0 | D22: =SUM(D10:D20) -> 0 | E22: =SUM(E10:E20) -> 0 | F22: =SUM(F10:F20) -> 0 | G22: =SUM(G10:G20) -> 0 | H22: =SUM(H10:H20) -> 0 | I22: =SUM(I10:I20) -> 0 | ... AF22: =SUM(AF10:AF20) -> 0 | AG22: =SUM(Tableau146[[#This Row],[Colonne2]:[Colonne32]]) -> 0
A23: TOTAL JOUR | B23: =IF(B22=0,0,1) -> 0 | C23: =IF(C22=0,0,1) -> 0 | D23: =IF(D22=0,0,1) -> 0 | E23: =IF(E22=0,0,1) -> 0 | F23: =IF(F22=0,0,1) -> 0 | G23: =IF(G22=0,0,1) -> 0 | H23: =IF(H22=0,0,1) -> 0 | I23: =IF(I22=0,0,1) -> 0 | ... AF23: =IF(AF22=0,0,1) -> 0 | AG23: =SUM(B23:AF23) -> 0
A25: Absences | K25: TOTAL DU MOIS CONTRAT CADRE | R25: TOTAL DU MOIS 39h | AA25: TOTAL DU MOIS 35h
A26: Arrêt Maladie | B26: AM | I26: =COUNTIF(B9:AF9,"AM") -> 0 | K26: Total des jours du mois | P26: =AG23 -> 0 | R26: Total des heures du mois | AA26: Total des heures du mois | AF26: =AG22 -> 0
A27: Jours Fériés | B27: JF | K27: Total de jour à faire an | R27: Total | AA27: Total
A28: Congés Annuels | B28: CA | I28: =COUNTIF(B9:AF9,"CA") -> 0 | K28: Total de jour restant | P28: =P27-P26 -> 0 | R28: Total suppl M | W28: =W26-W27 -> 0 | AA28: Total suppl M | AF28: &
A29: Autre Absence (récup, sans solde, etc.) | B29: AA | I29: =COUNTIF(B9:AF9,"AA") -> 0 | R29: Total suppl M-1 | W29: =Juin!W29 -> 0 | AA29: Total suppl M-1
A30: Total | I30: =SUM(I26:I29) -> 0 | R30: Total H Supp cumulés | W30: =W28+W29 -> 0 | AA30: Total H Supp cumulés | AF30: =AF28+AF29 -> #VALUE!

Sheet Aout
AM1: 8 | AN1: Janvier | AO1: 2025
AM2: 2 | AN2: Février | AO2: 2026
AN3: Mars | AO3: 2027
A4: Nom du.de la salarié.e | AN4: Avril | AO4: 2028
A5: Poste occupé | AN5: Mai | AO5: 2029
A6: Emploi à temps plein ou partiel | B6: Temps plein | AN6: Juin | AO6: 2030
AN7: Juillet | AO7: 2031
B8: =DATE(AM2+2024,AM1,1) -> 46235 | C8: =B8+1 -> 46236 | D8: =C8+1 -> 46237 | E8: =D8+1 -> 46238 | F8: =E8+1 -> 46239 | G8: =F8+1 -> 46240 | H8: =G8+1 -> 46241 | I8: =H8+1 -> 46242 | J8: =I8+1 -> 46243 | ... AF8: =AE8+1 -> 46265 | AG8: Total | AN8: Août | AO8: 2032
A9: Absences | P9: JF | AG9: =I30 -> 0 | AN9: Septembre | AO9: 2033
A10: Projet 1 | AG10: =SUM(Tableau1410[[#This Row],[Colonne2]:[Colonne32]]) -> 0 | AN10: Octobre | AO10: 2034
A11: Projet 2
A12: Type d'action 1 | AG12: =SUM(Tableau1410[[#This Row],[Colonne2]:[Colonne32]]) -> 0 | AN12: Novembre | AO12: 2035
A13: ou Type d'action 2 | AG13: =SUM(Tableau1410[[#This Row],[Colonne2]:[Colonne32]]) -> 0 | AN13: Décembre | AO13: 2036
A14: ex 3 | AG14: =SUM(Tableau1410[[#This Row],[Colonne2]:[Colonne32]]) -> 0
AG15: =SUM(Tableau1410[[#This Row],[Colonne2]:[Colonne32]]) -> 0
AG16: =SUM(Tableau1410[[#This Row],[Colonne2]:[Colonne32]]) -> 0
AG17: =SUM(Tableau1410[[#This Row],[Colonne2]:[Colonne32]]) -> 0
AG18: =SUM(Tableau1410[[#This Row],[Colonne2]:[Colonne32]]) -> 0
AG19: =SUM(Tableau1410[[#This Row],[Colonne2]:[Colonne32]]) -> 0
AG21: =SUM(Tableau1410[[#This Row],[Colonne2]:[Colonne32]]) -> 0
A22: Total | B22: =SUM(B11:B21) -> 0 | C22: =SUM(C11:C21) -> 0 | D22: =SUM(D11:D21) -> 0 | E22: =SUM(E11:E21) -> 0 | F22: =SUM(F11:F21) -> 0 | G22: =SUM(G11:G21) -> 0 | H22: =SUM(H11:H21) -> 0 | I22: =SUM(I11:I21) -> 0 | ... AF22: =SUM(AF11:AF21) -> 0 | AG22: =SUM(Tableau146[[#This Row],[Colonne2]:[Colonne32]]) -> 0
A23: TOTAL JOUR | B23: =IF(B22=0,0,1) -> 0 | C23: =IF(C22=0,0,1) -> 0 | D23: =IF(D22=0,0,1) -> 0 | E23: =IF(E22=0,0,1) -> 0 | F23: =IF(F22=0,0,1) -> 0 | G23: =IF(G22=0,0,1) -> 0 | H23: =IF(H22=0,0,1) -> 0 | I23: =IF(I22=0,0,1) -> 0 | ... AF23: =IF(AF22=0,0,1) -> 0 | AG23: =SUM(B23:AF23) -> 0
A25: Absences | K25: TOTAL DU MOIS CONTRAT CADRE | R25: TOTAL DU MOIS 39h | AA25: TOTAL DU MOIS 35h
A26: Arrêt Maladie | B26: AM | I26: =COUNTIF(B10:AF10,"AM") -> 0 | K26: Total des jours du mois | P26: =AG23 -> 0 | R26: Total des heures du mois | W26: =AG22 -> 0 | AA26: Total des heures du mois | AF26: =AG22 -> 0
A27: Jours Fériés | B27: JF | I27: =COUNTIF(B10:AF10,"JF") -> 0 | K27: Total de jour à faire an | P27: 218 | R27: Total | W27: =NETWORKDAYS.INTL(B8,AF8)*7.8-(I30*7.8) -> 163.8 | AA27: Total | AF27: =NETWORKDAYS.INTL(B8,AF8)*7-(I30*7) -> 147
A28: Congés Annuels | B28: CA | I28: =COUNTIF(B10:AF10,"CA") -> 0 | K28: Total de jour restant | P28: =P27-P26 -> 218 | R28: Total suppl M | W28: =W26-W27 -> -163.8 | AA28: Total suppl M | AF28: =AF26-AF27 -> -147
A29: Autre Absence (récup, sans solde, etc.) | B29: AA | I29: =COUNTIF(B10:AF10,"AA") -> 0 | R29: Total suppl M-1 | W29: =Juillet!W30 -> 0 | AA29: Total suppl M-1 | AF29: =Juin!AF31 -> 0
A30: Total | I30: =SUM(I26:I29) -> 0 | R30: Total H Supp cumulés | W30: =W28+W29 -> -163.8 | AA30: Total H Supp cumulés | AF30: =AF28+AF29 -> -147

Sheet Septembre
AM1: 9 | AN1: Janvier | AO1: 2025
AM2: 2 | AN2: Février | AO2: 2026
AN3: Mars | AO3: 2027
A4: Nom du.de la salarié.e | AN4: Avril | AO4: 2028
A5: Poste occupé | AN5: Mai | AO5: 2029
A6: Emploi à temps plein ou partiel | B6: Temps plein | AN6: Juin | AO6: 2030
AN7: Juillet | AO7: 2031
B8: =DATE(AM2+2024,AM1,1) -> 46266 | C8: =B8+1 -> 46267 | D8: =C8+1 -> 46268 | E8: =D8+1 -> 46269 | F8: =E8+1 -> 46270 | G8: =F8+1 -> 46271 | H8: =G8+1 -> 46272 | I8: =H8+1 -> 46273 | J8: =I8+1 -> 46274 | ... AF8: =AE8+1 -> 46296 | AG8: Total | AN8: Août | AO8: 2032
A9: Absences | AG9: =I30 -> 0 | AN9: Septembre | AO9: 2033
A10: Projet 1 | AG10: =SUM(Tableau1411[[#This Row],[Colonne2]:[Colonne32]]) -> 0 | AN10: Octobre | AO10: 2034
A11: Projet 2 | AG11: =SUM(Tableau1411[[#This Row],[Colonne2]:[Colonne32]]) -> 0 | AN11: Novembre | AO11: 2035
A12: Type d'action 1 | AG12: =SUM(Tableau1411[[#This Row],[Colonne2]:[Colonne32]]) -> 0 | AN12: Décembre | AO12: 2036
A13: ou Type d'action 2 | AG13: =SUM(Tableau1411[[#This Row],[Colonne2]:[Colonne32]]) -> 0
A14: ex 3 | AG14: =SUM(Tableau1411[[#This Row],[Colonne2]:[Colonne32]]) -> 0
AG15: =SUM(Tableau1411[[#This Row],[Colonne2]:[Colonne32]]) -> 0
AG16: =SUM(Tableau1411[[#This Row],[Colonne2]:[Colonne32]]) -> 0
AG17: =SUM(Tableau1411[[#This Row],[Colonne2]:[Colonne32]]) -> 0
AG18: =SUM(Tableau1411[[#This Row],[Colonne2]:[Colonne32]]) -> 0
AG19: =SUM(Tableau1411[[#This Row],[Colonne2]:[Colonne32]]) -> 0
AG21: =SUM(Tableau1411[[#This Row],[Colonne2]:[Colonne32]]) -> 0
A22: Total | B22: =SUM(B10:B21) -> 0 | C22: =SUM(C10:C21) -> 0 | D22: =SUM(D10:D21) -> 0 | E22: =SUM(E10:E21) -> 0 | F22: =SUM(F10:F21) -> 0 | G22: =SUM(G10:G21) -> 0 | H22: =SUM(H10:H21) -> 0 | I22: =SUM(I10:I21) -> 0 | ... AF22: =SUM(AF10:AF21) -> 0 | AG22: =SUM(Tableau146[[#This Row],[Colonne2]:[Colonne32]]) -> 0
A23: TOTAL JOUR | B23: =IF(B22=0,0,1) -> 0 | C23: =IF(C22=0,0,1) -> 0 | D23: =IF(D22=0,0,1) -> 0 | E23: =IF(E22=0,0,1) -> 0 | F23: =IF(F22=0,0,1) -> 0 | G23: =IF(G22=0,0,1) -> 0 | H23: =IF(H22=0,0,1) -> 0 | I23: =IF(I22=0,0,1) -> 0 | ... AF23: =IF(AF22=0,0,1) -> 0 | AG23: =SUM(B23:AF23) -> 0
A25: Absences | K25: TOTAL DU MOIS CONTRAT CADRE | R25: TOTAL DU MOIS 39h | AA25: TOTAL DU MOIS 35h
A26: Arrêt Maladie | B26: AM | I26: =COUNTIF(B9:AF9,"AM") -> 0 | K26: Total des jours du mois | P26: =AG23 -> 0 | R26: Total des heures du mois | W26: =AG22 -> 0 | AA26: Total des heures du mois | AF26: =AG22 -> 0
A27: Jours Fériés | B27: JF | I27: =COUNTIF(B9:AF9,"JF") -> 0 | K27: Total de jour à faire an | P27: 218 | R27: Total | W27: =NETWORKDAYS.INTL(B8,AF8)*7.8-(I30*7.8) -> 179.4 | AA27: Total | AF27: =NETWORKDAYS.INTL(B8,AF8)*7-(I30*7) -> 161
A28: Congés Annuels | B28: CA | I28: =COUNTIF(B9:AF9,"CA") -> 0 | K28: Total de jour restant | P28: =P27-P26 -> 218 | R28: Total suppl M | W28: =W26-W27 -> -179.4 | AA28: Total suppl M | AF28: =AF26-AF27 -> -161
A29: Autre Absence (récup, sans solde, etc.) | B29: AA | I29: =COUNTIF(B9:AF9,"AA") -> 0 | R29: Total suppl M-1 | W29: =Juin!W29 -> 0 | AA29: Total suppl M-1 | AF29: =Juin!AF30 -> 0
A30: Total | I30: =SUM(I26:I29) -> 0 | R30: Total H Supp cumulés | W30: =W28+W29 -> -179.4 | AA30: Total H Supp cumulés | AF30: =AF28+AF29 -> -161

Sheet Octobre
AM1: 10 | AN1: Janvier | AO1: 2025
AM2: 2 | AN2: Février | AO2: 2026
AN3: Mars | AO3: 2027
A4: Nom du.de la salarié.e | AN4: Avril | AO4: 2028
A5: Poste occupé | AN5: Mai | AO5: 2029
A6: Emploi à temps plein ou partiel | B6: Temps plein | AN6: Juin | AO6: 2030
AN7: Juillet | AO7: 2031
B8: =DATE(AM2+2024,AM1,1) -> 46296 | C8: =B8+1 -> 46297 | D8: =C8+1 -> 46298 | E8: =D8+1 -> 46299 | F8: =E8+1 -> 46300 | G8: =F8+1 -> 46301 | H8: =G8+1 -> 46302 | I8: =H8+1 -> 46303 | J8: =I8+1 -> 46304 | ... AF8: =AE8+1 -> 46326 | AG8: Total | AN8: Août | AO8: 2032
A9: Absences | AG9: =I30 -> 0 | AN9: Septembre | AO9: 2033
A10: Projet 1 | AG10: =SUM(Tableau1412[[#This Row],[Colonne2]:[Colonne32]]) -> 0 | AN10: Octobre | AO10: 2034
A11: Projet 2 | AG11: =SUM(Tableau1412[[#This Row],[Colonne2]:[Colonne32]]) -> 0 | AN11: Novembre | AO11: 2035
A12: Type d'action 1 | AG12: =SUM(Tableau1412[[#This Row],[Colonne2]:[Colonne32]]) -> 0 | AN12: Décembre | AO12: 2036
A13: ou Type d'action 2 | AG13: =SUM(Tableau1412[[#This Row],[Colonne2]:[Colonne32]]) -> 0
A14: ex 3 | AG14: =SUM(Tableau1412[[#This Row],[Colonne2]:[Colonne32]]) -> 0
AG15: =SUM(Tableau1412[[#This Row],[Colonne2]:[Colonne32]]) -> 0
AG16: =SUM(Tableau1412[[#This Row],[Colonne2]:[Colonne32]]) -> 0
AG17: =SUM(Tableau1412[[#This Row],[Colonne2]:[Colonne32]]) -> 0
AG18: =SUM(Tableau1412[[#This Row],[Colonne2]:[Colonne32]]) -> 0
AG20: =SUM(Tableau1412[[#This Row],[Colonne2]:[Colonne32]]) -> 0
AG21: =SUM(Tableau1412[[#This Row],[Colonne2]:[Colonne32]]) -> 0
A22: Total | B22: =SUM(B10:B21) -> 0 | C22: =SUM(C10:C21) -> 0 | D22: =SUM(D10:D21) -> 0 | E22: =SUM(E10:E21) -> 0 | F22: =SUM(F10:F21) -> 0 | G22: =SUM(G10:G21) -> 0 | H22: =SUM(H10:H21) -> 0 | I22: =SUM(I10:I21) -> 0 | ... AF22: =SUM(AF10:AF21) -> 0 | AG22: =SUM(Tableau146[[#This Row],[Colonne2]:[Colonne32]]) -> 0
A23: TOTAL JOUR | B23: =IF(B22=0,0,1) -> 0 | C23: =IF(C22=0,0,1) -> 0 | D23: =IF(D22=0,0,1) -> 0 | E23: =IF(E22=0,0,1) -> 0 | F23: =IF(F22=0,0,1) -> 0 | G23: =IF(G22=0,0,1) -> 0 | H23: =IF(H22=0,0,1) -> 0 | I23: =IF(I22=0,0,1) -> 0 | ... AF23: =IF(AF22=0,0,1) -> 0 | AG23: =SUM(B23:AF23) -> 0
A25: Absences | K25: TOTAL DU MOIS CONTRAT CADRE | R25: TOTAL DU MOIS 39h | AA25: TOTAL DU MOIS 35h
A26: Arrêt Maladie | B26: AM | I26: =COUNTIF(B9:AF9,"AM") -> 0 | K26: Total des jours du mois | P26: =AG23 -> 0 | R26: Total des heures du mois | W26: =AG22 -> 0 | AA26: Total des heures du mois | AF26: =AG22 -> 0
A27: Jours Fériés | B27: JF | I27: =COUNTIF(B9:AF9,"JF") -> 0 | K27: Total de jour à faire an | P27: 218 | R27: Total | W27: =NETWORKDAYS.INTL(B8,AF8)*7.8-(I30*7.8) -> 171.6 | AA27: Total | AF27: =NETWORKDAYS.INTL(B8,AF8)*7-(I30*7) -> 154
A28: Congés Annuels | B28: CA | I28: =COUNTIF(B9:AF9,"CA") -> 0 | K28: Total de jour restant | P28: =P27-P26 -> 218 | R28: Total suppl M | W28: =W26-W27 -> -171.6 | AA28: Total suppl M | AF28: =AF26-AF27 -> -154
A29: Autre Absence (récup, sans solde, etc.) | B29: AA | I29: =COUNTIF(B9:AF9,"AA") -> 0 | R29: Total suppl M-1 | W29: =Juin!W29 -> 0 | AA29: Total suppl M-1 | AF29: =Juin!AF30 -> 0
A30: Total | I30: =SUM(I26:I29) -> 0 | R30: Total H Supp cumulés | W30: =W28+W29 -> -171.6 | AA30: Total H Supp cumulés | AF30: =AF28+AF29 -> -154
G35: en moyenne 18 jour de trvail à faire par mois.

Sheet Novembre
AM1: 11 | AN1: Janvier | AO1: 2025
AM2: 2 | AN2: Février | AO2: 2026
AN3: Mars | AO3: 2027
A4: Nom du.de la salarié.e | AN4: Avril | AO4: 2028
A5: Poste occupé | AN5: Mai | AO5: 2029
A6: Emploi à temps plein ou partiel | B6: Temps plein | AN6: Juin | AO6: 2030
AN7: Juillet | AO7: 2031
B8: =DATE(AM2+2024,AM1,1) -> 46327 | C8: =B8+1 -> 46328 | D8: =C8+1 -> 46329 | E8: =D8+1 -> 46330 | F8: =E8+1 -> 46331 | G8: =F8+1 -> 46332 | H8: =G8+1 -> 46333 | I8: =H8+1 -> 46334 | J8: =I8+1 -> 46335 | ... AF8: =AE8+1 -> 46357 | AG8: Total | AN8: Août | AO8: 2032
A9: Absences | B9: JF | L9: JF | AG9: =I30 -> 2 | AN9: Septembre | AO9: 2033
A10: Projet 1 | AG10: =SUM(Tableau14513[[#This Row],[Colonne2]:[Colonne32]]) -> 0 | AN10: Octobre | AO10: 2034
A11: Projet 2 | AG11: =SUM(Tableau14513[[#This Row],[Colonne2]:[Colonne32]]) -> 0 | AN11: Novembre | AO11: 2035
A12: Type d'action 1 | AG12: =SUM(Tableau14513[[#This Row],[Colonne2]:[Colonne32]]) -> 0 | AN12: Décembre | AO12: 2036
A13: ou Type d'action 2 | AG13: =SUM(Tableau14513[[#This Row],[Colonne2]:[Colonne32]]) -> 0
A14: ex 3 | AG14: =SUM(Tableau14513[[#This Row],[Colonne2]:[Colonne32]]) -> 0
AG15: =SUM(Tableau14513[[#This Row],[Colonne2]:[Colonne32]]) -> 0
AG16: =SUM(Tableau14513[[#This Row],[Colonne2]:[Colonne32]]) -> 0
AG17: =SUM(Tableau14513[[#This Row],[Colonne2]:[Colonne32]]) -> 0
AG18: =SUM(Tableau14513[[#This Row],[Colonne2]:[Colonne32]]) -> 0
AG19: =SUM(Tableau14513[[#This Row],[Colonne2]:[Colonne32]]) -> 0
AG21: =SUM(Tableau14513[[#This Row],[Colonne2]:[Colonne32]]) -> 0
A22: Total | B22: =SUM(B10:B21) -> 0 | C22: =SUM(C10:C21) -> 0 | D22: =SUM(D10:D21) -> 0 | E22: =SUM(E10:E21) -> 0 | F22: =SUM(F10:F21) -> 0 | G22: =SUM(G10:G21) -> 0 | H22: =SUM(H10:H21) -> 0 | I22: =SUM(I10:I21) -> 0 | ... AF22: =SUM(AF10:AF21) -> 0 | AG22: =SUM(Tableau146[[#This Row],[Colonne2]:[Colonne32]]) -> 0
A23: TOTAL JOUR | B23: =IF(B22=0,0,1) -> 0 | C23: =IF(C22=0,0,1) -> 0 | D23: =IF(D22=0,0,1) -> 0 | E23: =IF(E22=0,0,1) -> 0 | F23: =IF(F22=0,0,1) -> 0 | G23: =IF(G22=0,0,1) -> 0 | H23: =IF(H22=0,0,1) -> 0 | I23: =IF(I22=0,0,1) -> 0 | ... AF23: =IF(AF22=0,0,1) -> 0 | AG23: =SUM(B23:AF23) -> 0
A25: Absences | K25: TOTAL DU MOIS CONTRAT CADRE | R25: TOTAL DU MOIS 39h | AA25: TOTAL DU MOIS 35h
A26: Arrêt Maladie | B26: AM | I26: =COUNTIF(B9:AF9,"AM") -> 0 | K26: Total des jours du mois | P26: =AG23 -> 0 | R26: Total des heures du mois | W26: =AG22 -> 0 | AA26: Total des heures du mois | AF26: =AG22 -> 0
A27: Jours Fériés | B27: JF | I27: =COUNTIF(B9:AF9,"JF") -> 2 | K27: Total de jour à faire an | P27: 218 | R27: Total | W27: =NETWORKDAYS.INTL(B8,AF8)*7.8-(I30*7.8) -> 156 | AA27: Total | AF27: =NETWORKDAYS.INTL(B8,AF8)*7-(I30*7) -> 140
A28: Congés Annuels | B28: CA | I28: =COUNTIF(B9:AF9,"CA") -> 0 | K28: Total de jour restant | P28: =P27-P26 -> 218 | R28: Total suppl M | W28: =W26-W27 -> -156 | AA28: Total suppl M | AF28: =AF26-AF27 -> -140
A29: Autre Absence (récup, sans solde, etc.) | B29: AA | I29: =COUNTIF(B9:AF9,"AA") -> 0 | R29: Total suppl M-1 | W29: =Juin!W29 -> 0 | AA29: Total suppl M-1 | AF29: =Juin!AF30 -> 0
A30: Total | I30: =SUM(I26:I29) -> 2 | R30: Total H Supp cumulés | W30: =W28+W29 -> -156 | AA30: Total H Supp cumulés | AF30: =AF28+AF29 -> -140

Sheet Décembre
AM1: 12 | AN1: Janvier | AO1: 2025
AM2: 2 | AN2: Février | AO2: 2026
AN3: Mars | AO3: 2027
A4: Nom du.de la salarié.e | AN4: Avril | AO4: 2028
A5: Poste occupé | AN5: Mai | AO5: 2029
A6: Emploi à temps plein ou partiel | B6: Temps plein | AN6: Juin | AO6: 2030
AN7: Juillet | AO7: 2031
B8: =DATE(AM2+2024,AM1,1) -> 46357 | C8: =B8+1 -> 46358 | D8: =C8+1 -> 46359 | E8: =D8+1 -> 46360 | F8: =E8+1 -> 46361 | G8: =F8+1 -> 46362 | H8: =G8+1 -> 46363 | I8: =H8+1 -> 46364 | J8: =I8+1 -> 46365 | ... AF8: =AE8+1 -> 46387 | AG8: Total | AN8: Août | AO8: 2032
A9: Absences | Z9: JF | AG9: =I30 -> 1 | AN9: Septembre | AO9: 2033
A10: Projet 1 | AG10: =SUM(Tableau14614[[#This Row],[Colonne2]:[Colonne32]]) -> 0 | AN10: Octobre | AO10: 2034
A11: Projet 2 | AG11: =SUM(Tableau14614[[#This Row],[Colonne2]:[Colonne32]]) -> 0 | AN11: Novembre | AO11: 2035
A12: Type d'action 1 | AG12: =SUM(Tableau14614[[#This Row],[Colonne2]:[Colonne32]]) -> 0 | AN12: Décembre | AO12: 2036
A13: ou Type d'action 2 | AG13: =SUM(Tableau14614[[#This Row],[Colonne2]:[Colonne32]]) -> 0
A14: ex 3 | AG14: =SUM(Tableau14614[[#This Row],[Colonne2]:[Colonne32]]) -> 0
AG15: =SUM(Tableau14614[[#This Row],[Colonne2]:[Colonne32]]) -> 0
AG16: =SUM(Tableau14614[[#This Row],[Colonne2]:[Colonne32]]) -> 0
AG17: =SUM(Tableau14614[[#This Row],[Colonne2]:[Colonne32]]) -> 0
AG18: =SUM(Tableau14614[[#This Row],[Colonne2]:[Colonne32]]) -> 0
AG19: =SUM(Tableau14614[[#This Row],[Colonne2]:[Colonne32]]) -> 0
AG21: =SUM(Tableau14614[[#This Row],[Colonne2]:[Colonne32]]) -> 0
A22: Total | B22: =SUM(B10:B21) -> 0 | C22: =SUM(C10:C21) -> 0 | D22: =SUM(D10:D21) -> 0 | E22: =SUM(E10:E21) -> 0 | F22: =SUM(F10:F21) -> 0 | G22: =SUM(G10:G21) -> 0 | H22: =SUM(H10:H21) -> 0 | I22: =SUM(I10:I21) -> 0 | ... AF22: =SUM(AF10:AF21) -> 0 | AG22: =SUM(Tableau146[[#This Row],[Colonne2]:[Colonne32]]) -> 0
A23: TOTAL JOUR | B23: =IF(B22=0,0,1) -> 0 | C23: =IF(C22=0,0,1) -> 0 | D23: =IF(D22=0,0,1) -> 0 | E23: =IF(E22=0,0,1) -> 0 | F23: =IF(F22=0,0,1) -> 0 | G23: =IF(G22=0,0,1) -> 0 | H23: =IF(H22=0,0,1) -> 0 | I23: =IF(I22=0,0,1) -> 0 | ... AF23: =IF(AF22=0,0,1) -> 0 | AG23: =SUM(B23:AF23) -> 0
A25: Absences | K25: TOTAL DU MOIS CONTRAT CADRE | R25: TOTAL DU MOIS 39h | AA25: TOTAL DU MOIS 35h
A26: Arrêt Maladie | B26: AM | I26: =COUNTIF(B9:AF9,"AM") -> 0 | K26: Total des jours du mois | P26: =AG23 -> 0 | R26: Total des heures du mois | W26: =AG22 -> 0 | AA26: Total des heures du mois | AF26: =AG22 -> 0
A27: Jours Fériés | B27: JF | I27: =COUNTIF(B9:AF9,"JF") -> 1 | K27: Total de jour à faire an | P27: 218 | R27: Total | W27: =NETWORKDAYS.INTL(B8,AF8)*7.8-(I30*7.8) -> 171.6 | AA27: Total | AF27: =NETWORKDAYS.INTL(B8,AF8)*7-(I30*7) -> 154
A28: Congés Annuels | B28: CA | I28: =COUNTIF(B9:AF9,"CA") -> 0 | K28: Total de jour restant | P28: =P27-P26 -> 218 | R28: Total suppl M | W28: =W26-W27 -> -171.6 | AA28: Total suppl M | AF28: =AF26-AF27 -> -154
A29: Autre Absence (récup, sans solde, etc.) | B29: AA | I29: =COUNTIF(B9:AF9,"AA") -> 0 | R29: Total suppl M-1 | W29: =Juin!W29 -> 0 | AA29: Total suppl M-1 | AF29: =Juin!AF30 -> 0
A30: Total | I30: =SUM(I26:I29) -> 1 | R30: Total H Supp cumulés | W30: =W28+W29 -> -171.6 | AA30: Total H Supp cumulés | AF30: =AF28+AF29 -> -154

Sheet Année
AO1: 2025
AM2: 2 | AO2: 2026
AO3: 2027
A4: Nom du.de la salarié.e | AO4: 2028
A5: Poste occupé | AO5: 2029
A6: Emploi à temps plein ou partiel | B6: Temps plein | AO6: 2030
AO7: 2031
B8: Janvier | C8: Février | D8: Mars | E8: Avril | F8: Mai | G8: Juin | H8: Juillet | I8: Aout | J8: Septembre | K8: Octobre | L8: Novembre | M8: Décembre | N8: Total | O8: Répartition (%) | P8: *633 | AO8: 2032
A9: Absences | B9: =Janvier!$I$30 -> 0 | C9: =Tableau14[[#This Row],[Colonne33]] -> 0 | D9: =Tableau145[[#This Row],[Colonne33]] -> 0 | E9: =Avril!$I$29 -> 0 | F9: =Mai!I30 -> 0 | G9: =Juin!I30 -> 0 | H9: =Juillet!I30 -> 0 | I9: =Aout!I30 -> 0 | J9: =Septembre!I30 -> 0 | K9: =Octobre!I30 -> 0 | L9: =Novembre!I30 -> 2 | M9: =Décembre!I30 -> 1 | N9: =SUM(B9:M9) -> 3 | AO9: 2033
A10: Projet 1 | B10: =Tableau1[[#This Row],[Colonne33]] -> 0 | C10: =Tableau14[[#This Row],[Colonne33]] -> 0 | D10: =Tableau145[[#This Row],[Colonne33]] -> 0 | E10: =Tableau146[[#This Row],[Colonne33]] -> 0 | F10: =Tableau147[[#This Row],[Colonne33]] -> 0 | G10: =Tableau148[[#This Row],[Colonne33]] -> 0 | H10: =Tableau149[[#This Row],[Colonne33]] -> 0 | I10: =Tableau1410[[#This Row],[Colonne33]] -> 0 | J10: =Tableau1411[[#This Row],[Colonne33]] -> 0 | K10: =Tableau1412[[#This Row],[Colonne33]] -> 0 | L10: =Tableau14513[[#This Row],[Colonne33]] -> 0 | M10: =Tableau14614[[#This Row],[Colonne33]] -> 0 | N10: =SUM(B10:M10) -> 0 | O10: =Tableau1461415[[#This Row],[Colonne33]]/$N$23 -> #DIV/0! | AO10: 2034
A11: Projet 2 | B11: =Tableau1[[#This Row],[Colonne33]] -> 0 | C11: =Tableau14[[#This Row],[Colonne33]] -> 0 | D11: =Tableau145[[#This Row],[Colonne33]] -> 0 | E11: =Tableau146[[#This Row],[Colonne33]] -> 0 | F11: =Tableau147[[#This Row],[Colonne33]] -> 0 | G11: =Tableau148[[#This Row],[Colonne33]] -> 0 | H11: =Tableau149[[#This Row],[Colonne33]] -> 0 | I11: =Tableau1410[[#This Row],[Colonne33]] -> 0 | J11: =Tableau1411[[#This Row],[Colonne33]] -> 0 | K11: =Tableau1412[[#This Row],[Colonne33]] -> 0 | L11: =Tableau14513[[#This Row],[Colonne33]] -> 0 | M11: =Tableau14614[[#This Row],[Colonne33]] -> 0 | N11: =SUM(B11:M11) -> 0 | O11: =Tableau1461415[[#This Row],[Colonne33]]/$N$23 -> #DIV/0! | AO11: 2035
A12: Type d'action 1 | B12: =Tableau1[[#This Row],[Colonne33]] -> 0 | C12: =Tableau14[[#This Row],[Colonne33]] -> 0 | D12: =Tableau145[[#This Row],[Colonne33]] -> 0 | E12: =Tableau146[[#This Row],[Colonne33]] -> 0 | F12: =Tableau147[[#This Row],[Colonne33]] -> 0 | G12: =Tableau148[[#This Row],[Colonne33]] -> 0 | H12: =Tableau149[[#This Row],[Colonne33]] -> 0 | I12: =Tableau1410[[#This Row],[Colonne33]] -> 0 | J12: =Tableau1411[[#This Row],[Colonne33]] -> 0 | K12: =Tableau1412[[#This Row],[Colonne33]] -> 0 | L12: =Tableau14513[[#This Row],[Colonne33]] -> 0 | M12: =Tableau14614[[#This Row],[Colonne33]] -> 0 | N12: =SUM(B12:M12) -> 0 | O12: =Tableau1461415[[#This Row],[Colonne33]]/$N$23 -> #DIV/0! | AO12: 2036
A13: ou Type d'action 2 | B13: =Tableau1[[#This Row],[Colonne33]] -> 0 | C13: =Tableau14[[#This Row],[Colonne33]] -> 0 | D13: =Tableau145[[#This Row],[Colonne33]] -> 0 | E13: =Tableau146[[#This Row],[Colonne33]] -> 0 | F13: =Tableau147[[#This Row],[Colonne33]] -> 0 | G13: =Tableau148[[#This Row],[Colonne33]] -> 0 | H13: =Tableau149[[#This Row],[Colonne33]] -> 0 | I13: =Tableau1410[[#This Row],[Colonne33]] -> 0 | J13: =Tableau1411[[#This Row],[Colonne33]] -> 0 | K13: =Tableau1412[[#This Row],[Colonne33]] -> 0 | L13: =Tableau14513[[#This Row],[Colonne33]] -> 0 | M13: =Tableau14614[[#This Row],[Colonne33]] -> 0 | N13: =SUM(B13:M13) -> 0 | O13: =Tableau1461415[[#This Row],[Colonne33]]/$N$23 -> #DIV/0!
A14: ex 3 | B14: =Tableau1[[#This Row],[Colonne33]] -> 0 | C14: =Tableau14[[#This Row],[Colonne33]] -> 0 | D14: =Tableau145[[#This Row],[Colonne33]] -> 0 | E14: =Tableau146[[#This Row],[Colonne33]] -> 0 | F14: =Tableau147[[#This Row],[Colonne33]] -> 0 | G14: =Tableau148[[#This Row],[Colonne33]] -> 0 | H14: =Tableau149[[#This Row],[Colonne33]] -> 0 | I14: =Tableau1410[[#This Row],[Colonne33]] -> 0 | J14: =Tableau1411[[#This Row],[Colonne33]] -> 0 | K14: =Tableau1412[[#This Row],[Colonne33]] -> 0 | L14: =Tableau14513[[#This Row],[Colonne33]] -> 0 | M14: =Tableau14614[[#This Row],[Colonne33]] -> 0 | N14: =SUM(B14:M14) -> 0 | O14: =Tableau1461415[[#This Row],[Colonne33]]/$N$23 -> #DIV/0!
B15: =Tableau1[[#This Row],[Colonne33]] -> 0 | C15: =Tableau14[[#This Row],[Colonne33]] -> 0 | D15: =Tableau145[[#This Row],[Colonne33]] -> 0 | E15: =Tableau146[[#This Row],[Colonne33]] -> 0 | F15: =Tableau147[[#This Row],[Colonne33]] -> 0 | G15: =Tableau148[[#This Row],[Colonne33]] -> 0 | H15: =Tableau149[[#This Row],[Colonne33]] -> 0 | I15: =Tableau1410[[#This Row],[Colonne33]] -> 0 | J15: =Tableau1411[[#This Row],[Colonne33]] -> 0 | K15: =Tableau1412[[#This Row],[Colonne33]] -> 0 | L15: =Tableau14513[[#This Row],[Colonne33]] -> 0 | M15: =Tableau14614[[#This Row],[Colonne33]] -> 0 | N15: =SUM(B15:M15) -> 0 | O15: =Tableau1461415[[#This Row],[Colonne33]]/$N$23 -> #DIV/0!
B16: =Tableau1[[#This Row],[Colonne33]] -> 0 | C16: =Tableau14[[#This Row],[Colonne33]] -> 0 | D16: =Tableau145[[#This Row],[Colonne33]] -> 0 | E16: =Tableau146[[#This Row],[Colonne33]] -> 0 | F16: =Tableau147[[#This Row],[Colonne33]] -> 0 | G16: =Tableau148[[#This Row],[Colonne33]] -> 0 | H16: =Tableau149[[#This Row],[Colonne33]] -> 0 | I16: =Tableau1410[[#This Row],[Colonne33]] -> 0 | J16: =Tableau1411[[#This Row],[Colonne33]] -> 0 | K16: =Tableau1412[[#This Row],[Colonne33]] -> 0 | L16: =Tableau14513[[#This Row],[Colonne33]] -> 0 | M16: =Tableau14614[[#This Row],[Colonne33]] -> 0 | N16: =SUM(B16:M16) -> 0 | O16: =Tableau1461415[[#This Row],[Colonne33]]/$N$23 -> #DIV/0!
B17: =Tableau1[[#This Row],[Colonne33]] -> 0 | C17: =Tableau14[[#This Row],[Colonne33]] -> 0 | D17: =Tableau145[[#This Row],[Colonne33]] -> 0 | E17: =Tableau146[[#This Row],[Colonne33]] -> 0 | F17: =Tableau147[[#This Row],[Colonne33]] -> 0 | G17: =Tableau148[[#This Row],[Colonne33]] -> 0 | H17: =Tableau149[[#This Row],[Colonne33]] -> 0 | I17: =Tableau1410[[#This Row],[Colonne33]] -> 0 | J17: =Tableau1411[[#This Row],[Colonne33]] -> 0 | K17: =Tableau1412[[#This Row],[Colonne33]] -> 0 | L17: =Tableau14513[[#This Row],[Colonne33]] -> 0 | M17: =Tableau14614[[#This Row],[Colonne33]] -> 0 | N17: =SUM(B17:M17) -> 0 | O17: =Tableau1461415[[#This Row],[Colonne33]]/$N$23 -> #DIV/0!
B18: =Tableau1[[#This Row],[Colonne33]] -> 0 | C18: =Tableau14[[#This Row],[Colonne33]] -> 0 | D18: =Tableau145[[#This Row],[Colonne33]] -> 0 | E18: =Tableau146[[#This Row],[Colonne33]] -> 0 | F18: =Tableau147[[#This Row],[Colonne33]] -> 0 | G18: =Tableau148[[#This Row],[Colonne33]] -> 0 | H18: =Tableau149[[#This Row],[Colonne33]] -> 0 | I18: =Tableau1410[[#This Row],[Colonne33]] -> 0 | J18: =Tableau1411[[#This Row],[Colonne33]] -> 0 | K18: =Tableau1412[[#This Row],[Colonne33]] -> 0 | L18: =Tableau14513[[#This Row],[Colonne33]] -> 0 | M18: =Tableau14614[[#This Row],[Colonne33]] -> 0 | N18: =SUM(B18:M18) -> 0 | O18: =Tableau1461415[[#This Row],[Colonne33]]/$N$23 -> #DIV/0!
B19: =Tableau1[[#This Row],[Colonne33]] -> 0 | C19: =Tableau14[[#This Row],[Colonne33]] -> 0 | D19: =Tableau145[[#This Row],[Colonne33]] -> 0 | E19: =Tableau146[[#This Row],[Colonne33]] -> 0 | F19: =Tableau147[[#This Row],[Colonne33]] -> 0 | G19: =Tableau148[[#This Row],[Colonne33]] -> 0 | H19: =Tableau149[[#This Row],[Colonne33]] -> 0 | I19: =Tableau1410[[#This Row],[Colonne33]] -> 0 | J19: =Tableau1411[[#This Row],[Colonne33]] -> 0 | K19: =Tableau1412[[#This Row],[Colonne33]] -> 0 | L19: =Tableau14513[[#This Row],[Colonne33]] -> 0 | M19: =Tableau14614[[#This Row],[Colonne33]] -> 0 | N19: =SUM(B19:M19) -> 0 | O19: =Tableau1461415[[#This Row],[Colonne33]]/$N$23 -> #DIV/0!
B20: =Tableau1[[#This Row],[Colonne33]] -> 0 | C20: =Tableau14[[#This Row],[Colonne33]] -> 0 | D20: =Tableau145[[#This Row],[Colonne33]] -> 0 | E20: =Tableau146[[#This Row],[Colonne33]] -> 0 | F20: =Tableau147[[#This Row],[Colonne33]] -> 0 | G20: =Tableau148[[#This Row],[Colonne33]] -> 0 | H20: =Tableau149[[#This Row],[Colonne33]] -> 0 | I20: =Tableau1410[[#This Row],[Colonne33]] -> 0 | J20: =Tableau1411[[#This Row],[Colonne33]] -> 0 | K20: =Tableau1412[[#This Row],[Colonne33]] -> 0 | L20: =Tableau14513[[#This Row],[Colonne33]] -> 0 | M20: =Tableau14614[[#This Row],[Colonne33]] -> 0 | N20: =SUM(B20:M20) -> 0 | O20: =Tableau1461415[[#This Row],[Colonne33]]/$N$23 -> #DIV/0!
B21: =Tableau1[[#This Row],[Colonne33]] -> 0 | C21: =Tableau14[[#This Row],[Colonne33]] -> 0 | D21: =Tableau145[[#This Row],[Colonne33]] -> 0 | E21: =Tableau146[[#This Row],[Colonne33]] -> 0 | F21: =Tableau147[[#This Row],[Colonne33]] -> 0 | G21: =Tableau148[[#This Row],[Colonne33]] -> 0 | H21: =Tableau149[[#This Row],[Colonne33]] -> 0 | I21: =Tableau1410[[#This Row],[Colonne33]] -> 0 | J21: =Tableau1411[[#This Row],[Colonne33]] -> 0 | K21: =Tableau1412[[#This Row],[Colonne33]] -> 0 | L21: =Tableau14513[[#This Row],[Colonne33]] -> 0 | M21: =Tableau14614[[#This Row],[Colonne33]] -> 0 | N21: =SUM(B21:M21) -> 0 | O21: =Tableau1461415[[#This Row],[Colonne33]]/$N$23 -> #DIV/0!
A22: Total | B22: =Tableau1[[#This Row],[Colonne33]] -> 0 | C22: =Tableau14[[#This Row],[Colonne33]] -> 0 | D22: =Tableau145[[#This Row],[Colonne33]] -> 0 | E22: =Tableau146[[#This Row],[Colonne33]] -> 0 | F22: =Tableau147[[#This Row],[Colonne33]] -> 0 | G22: =Tableau148[[#This Row],[Colonne33]] -> 0 | H22: =Tableau149[[#This Row],[Colonne33]] -> 0 | I22: =Tableau1410[[#This Row],[Colonne33]] -> 0 | J22: =Tableau1411[[#This Row],[Colonne33]] -> 0 | K22: =Tableau1412[[#This Row],[Colonne33]] -> 0 | L22: =Tableau14513[[#This Row],[Colonne33]] -> 0 | M22: =Tableau14614[[#This Row],[Colonne33]] -> 0 | N22: =SUM(B22:M22) -> 0 | O22: =Tableau1461415[[#This Row],[Colonne33]]/$N$23 -> #DIV/0!
A23: TOTAL JOUR | B23: =SUM(B10:B22) -> 0 | C23: =SUM(C10:C22) -> 0 | D23: =SUM(D10:D22) -> 0 | E23: =SUM(E10:E22) -> 0 | F23: =SUM(F10:F22) -> 0 | G23: =SUM(G10:G22) -> 0 | H23: =SUM(H10:H22) -> 0 | I23: =SUM(I10:I22) -> 0 | ... O23: =SUM(O10:O22) -> #DIV/0!
A25: Absences | E25: TOTAL ANNEE | K25: Signature salarié.e | N25: Signature responsable
A26: Arrêt Maladie | B26: AM | C26: =SUM(Janvier!I26,Février!I26,Mars!I26,Avril!I25,Mai!I26,Juin!I26,Juillet!I26,Aout!I26,Septembre!I26,Octobre!I26,Novembre!I26,Décembre!I26) -> 0 | E26: Total des heures | H26: =N23 -> 0
A27: Jours Fériés | B27: JF | C27: =SUM(Janvier!I27,Février!I27,Mars!I27,Avril!I26,Mai!I27,Juin!I27,Juillet!I27,Aout!I27,Septembre!I27,Octobre!I27,Novembre!I27,Décembre!I27) -> 3 | E27: Total | H27: =SUM(Janvier!AF27,Février!AF27,Mars!AF27,Avril!AF26,Mai!AF27,Juin!AF27,Juillet!AF27,Aout!AF27,Septembre!AF27,Octobre!AF27,Novembre!AF27,Décembre!AF27) -> 756
A28: Congés Annuels | B28: CA | C28: =SUM(Janvier!I28,Février!I28,Mars!I28,Avril!I27,Mai!I28,Juin!I28,Juillet!I28,Aout!I28,Septembre!I28,Octobre!I28,Novembre!I28,Décembre!I28) -> 0 | E28: Total suppl | H28: =H26-H27 -> -756
A29: Autre Absence (récup, sans solde, etc.) | B29: AA | C29: =COUNTIF(B9:M9,"AA") -> 0 | E29: Total JOUR | H29: =SUM(Janvier!AG23+Février!AG23+Mars!AG23+Avril!AG23+Mai!AG23+Juin!AG23+Juillet!AG23+Aout!AG23+Septembre!AG23+Octobre!AG23+Novembre!AG23+Décembre!AG23) -> 0
A30: Total | C30: =SUM(C26:C29) -> 3
