Workbook

Sheet Dépenses par libellés
A1: Budget prévisionnel
A3: Dépenses par libellés | D3: Ressources
A4: 60 - Achats | B4: =SUM(B5:B10) -> 0 | D4: 701 - Vente de produits finis, de marchandises
A5: 601 Achats stockés matières premières et fournitures | B5: =SUMIF('Détails des dépenses'!$C$2:$C$18,"Achats stockés",'Détails des dépenses'!$G$2:$G$18) -> 0 | D5: 706 - prestations de services
A6: 602 Achats non stockés | B6: =SUMIF('Détails des dépenses'!C2:C18,"Achats non stockés",'Détails des dépenses'!G2:G18) -> 0 | D6: 73 - Subventions d'exploitations | E6: =SUM(E7:E45) -> 0
A7: 603 Variations des stocks | B7: =SUMIF('Détails des dépenses'!C2:C18,"Variations des stocks",'Détails des dépenses'!G2:G18) -> 0 | D7: FEADER
A8: 605 Achats de matériel | B8: =SUMIF('Détails des dépenses'!C2:C18,"Achats matériels",'Détails des dépenses'!G2:G18) -> 0 | D8: LEADER
A9: 606 Achats non stockés et fournitures | B9: =SUMIF('Détails des dépenses'!C2:C18,"Achats non stockés et fournitures",'Détails des dépenses'!G2:G18) -> 0 | D9: CPER
A10: 607 Achats de marchandises | B10: =SUMIF('Détails des dépenses'!C2:C18,"Achats marchandises",'Détails des dépenses'!G2:G18) -> 0 | D10: Préfecture
D11: ARS
A12: 61 - Services extérieurs | B12: =SUM(B13:B20) -> 0 | D12: DEAL
A13: 611 Sous-traitance générale | B13: =SUMIF('Détails des dépenses'!$C$2:$C$18,"sous traitance générales",'Détails des dépenses'!$G$2:$G$18) -> 0 | D13: DAAF
A14: 612 Redevances crédit bail | B14: =SUMIF('Détails des dépenses'!$C$2:$C$18,"crédit bail",'Détails des dépenses'!$G$2:$G$18) -> 0 | D14: Rectorat
A15: 613 Locations | B15: =SUMIF('Détails des dépenses'!$C$2:$C$18,"locations",'Détails des dépenses'!$G$2:$G$18) -> 0 | D15: PNMM
A16: 614 Charges locatives | B16: =SUMIF('Détails des dépenses'!$C$2:$C$18,"charges locatives",'Détails des dépenses'!$G$2:$G$18) -> 0 | D16: DJSCS
A17: 615 Entretien et réparation | B17: =SUMIF('Détails des dépenses'!$C$2:$C$18,"entretien réparation",'Détails des dépenses'!$G$2:$G$18) -> 0 | D17: CEB
A18: 616 Primes d'assurances | B18: =SUMIF('Détails des dépenses'!$C$2:$C$18,"assurances",'Détails des dépenses'!$G$2:$G$18) -> 0 | D18: ADEME
A19: 617 Etudes et recherches | B19: =SUMIF('Détails des dépenses'!$C$2:$C$18,"études et recherches",'Détails des dépenses'!$G$2:$G$18) -> 0 | D19: AFD
A20: 618 Divers | B20: =SUMIF('Détails des dépenses'!$C$2:$C$18,"divers",'Détails des dépenses'!$G$2:$G$18) -> 0 | D20: CC Nord
D21: 3CO
A22: 62 - Autres services extérieurs | B22: =SUM(B23:B30) -> 0 | D22: CCPT
A23: 621 Personnel extérieur à l'entreprise | B23: =SUMIF('Détails des dépenses'!$C$2:$C$18,"personnel extérieur",'Détails des dépenses'!$G$2:$G$18) -> 0 | D23: CCSUD
A24: 622 Rémunérations intermédiaires et honoraires | B24: =SUMIF('Détails des dépenses'!$C$2:$C$18,"rémunérations intermédiaires",'Détails des dépenses'!$G$2:$G$18) -> 0 | D24: CADEMA
A25: 623 Publicité, publication, relations publiques | B25: =SUMIF('Détails des dépenses'!$C$2:$C$18,"Publicité",'Détails des dépenses'!$G$2:$G$18) -> 0 | D25: Conseil Départemental
A26: 624 Transports de biens et collectifs | B26: =SUMIF('Détails des dépenses'!$C$2:$C$18,"Transport de biens",'Détails des dépenses'!$G$2:$G$18) -> 0 | D26: Entreprises
A27: 625 Déplacements, missions | B27: =SUMIF('Détails des dépenses'!$C$2:$C$18,"déplacements missions",'Détails des dépenses'!$G$2:$G$18) -> 0 | D27: Fondations
A28: 626 Frais postaux et télécommunications | B28: =SUMIF('Détails des dépenses'!$C$2:$C$18,"frais postaux et télécommunications",'Détails des dépenses'!$G$2:$G$18) -> 0 | D28: ASP
A29: 627 Services bancaires | B29: =SUMIF('Détails des dépenses'!$C$2:$C$18,"services bancaires",'Détails des dépenses'!$G$2:$G$18) -> 0 | D29: Lycée Coconi
A30: 628 Divers - cotisations | B30: =SUMIF('Détails des dépenses'!$C$2:$C$18,"cotisations",'Détails des dépenses'!$G$2:$G$18) -> 0 | D30: OFB
A32: 63 - Impôts et taxes | B32: =SUM(B33:B35) -> 0
A33: 631 Impots et taxes sur rémunérations | B33: =SUMIF('Détails des dépenses'!$C$2:$C$18,"impots et taxes",'Détails des dépenses'!$G$2:$G$18) -> 0
A34: 633 Impots et taxes sur rémunérations (autres organismes) | B34: =SUMIF('Détails des dépenses'!$C$2:$C$18,"impots et taxes autres orga",'Détails des dépenses'!$G$2:$G$18) -> 0
A35: 635 Autres impôts et taxes | B35: =SUMIF('Détails des dépenses'!$C$2:$C$18,"autres impots et taxes",'Détails des dépenses'!$G$2:$G$18) -> 0
A37: 64 - Charges de personnel | B37: =SUM(B38:B42) -> 0
A38: 641 Rémunération des personnels | B38: ='Rémunération du personnel'!H12 -> 0
A39: 644 Rémunération du travail de l'exploitant | B39: =SUMIF('Détails des dépenses'!$C$2:$C$18,"exploitant",'Détails des dépenses'!$G$2:$G$18) -> 0
A40: 645 Charges et cotisations sociales | B40: ='Rémunération du personnel'!I12 -> 0
A41: 647 Autres charges sociales | B41: =SUMIF('Détails des dépenses'!$C$2:$C$18,"autres charges sociales",'Détails des dépenses'!$G$2:$G$18) -> 0
A42: 648 Autres charges de personnel | B42: =SUMIF('Détails des dépenses'!$C$2:$C$18,"autres charges de personnel",'Détails des dépenses'!$G$2:$G$18) -> 0
A44: 65 - Autres charges de gestion courante | B44: =SUMIF('Détails des dépenses'!$C$2:$C$18,"autres charges de gestions courantes",'Détails des dépenses'!$G$2:$G$18) -> 0
...

Sheet Détails des dépenses
A1: N° | B1: Intitulé de la dépense | C1: Catégorie | D1: Montant unitaire | E1: Quantité | F1: Taux affectation projet | G1: Montant total | H1: Commentaire
A2: 1 | B2: Location voiture | C2: locations | D2: 500 | E2: 12 | G2: =D2*E2*F2 -> 0
A3: 2 | B3: Déplacement | C3: déplacements missions | D3: 0.548 | E3: =F35 -> 0 | F3: 1 | G3: =D3*E3*F3 -> 0
A4: 3 | G4: =D4*E4*F4 -> 0
A5: 4 | G5: =D5*E5*F5 -> 0
A6: 5 | G6: =D6*E6*F6 -> 0
A7: 6 | G7: =D7*E7*F7 -> 0
A8: 7 | G8: =D8*E8*F8 -> 0
A9: 8 | G9: =D9*E9*F9 -> 0
A10: 9 | G10: =D10*E10*F10 -> 0
A11: 10 | G11: =D11*E11*F11 -> 0
A12: 11 | G12: =D12*E12*F12 -> 0
A13: 12 | G13: =D13*E13*F13 -> 0
A14: 13 | G14: =D14*E14*F14 -> 0
A15: 14 | G15: =D15*E15*F15 -> 0
... A18: 17 | G18: =D18*E18*F18 -> 0
B19: Total | G19: =SUM(G2:G18) -> 0
B23: Transport
B24: Destination | C24: objet | D24: Km parcourus | E24: Quantité | F24: Km total
F25: =D25*E25 -> 0
F26: =D26*E26 -> 0
F27: =D27*E27 -> 0
F28: =D28*E28 -> 0
F29: =D29*E29 -> 0
F30: =D30*E30 -> 0
F31: =D31*E31 -> 0
F32: =D32*E32 -> 0
F33: =D33*E33 -> 0
E35: Total | F35: =SUM(F25:F33) -> 0

Sheet Rémunération du personnel
A3: N° | B3: Rémunération du personnel | C3: Postes | D3: Salaire brut | E3: Charges sociales | F3: Nb de Mois | G3: Taux affectation | H3: Salaires brut projet | I3: Charges sociales projet
A4: 1 | B4: Manuella GRIMAULT | C4: Coordinatrice MNE | D4: 3310 | E4: 570 | F4: 12 | H4: =D4*G4*F4 -> 0 | I4: =E4*G4*F4 -> 0
A5: 2 | B5: Twabrane DAMIR | C5: Chargé de communication MNE | D5: 2100 | E5: 500 | F5: 12 | H5: =D5*G5*F5 -> 0 | I5: =E5*G5*F5 -> 0
A6: 3 | B6: Mounayati SAID | C6: Chargé gestion adm et financiere MNE | D6: 1950 | E6: 450 | F6: 12 | H6: =D6*G6*F6 -> 0 | I6: =E6*G6*F6 -> 0
A7: 4 | B7: Fayza MAHAMOUD | C7: Chargé de mission association | D7: 2250 | E7: 500 | F7: 12 | H7: =D7*G7*F7 -> 0 | I7: =E7*G7*F7 -> 0
A8: 5 | B8: Anida SAID | C8: Chargé de mission association | D8: 1160 | E8: 290 | F8: 12 | H8: =D8*G8*F8 -> 0 | I8: =E8*G8*F8 -> 0
A9: 6 | B9: Pauline GUILLAUME | C9: Juriste | D9: 2300 | E9: 550 | F9: 12 | H9: =D9*G9*F9 -> 0 | I9: =E9*G9*F9 -> 0
A10: 7 | B10: Kevin MENDES | C10: Animateur | D10: 2200 | E10: 450 | F10: 12 | H10: =D10*G10*F10 -> 0 | I10: =E10*G10*F10 -> 0
G12: Total prévu | H12: =SUM('Rémunération du personnel'!H4:H10) -> 0 | I12: =SUM('Rémunération du personnel'!I4:I10) -> 0

Sheet Contributions volontaires
A3: Personnel bénévole
A4: NOM Prénom | B4: Action | C4: Nb d'heure | D4: Taux horaire | E4: Montant
E5: =C5*D5 -> 0
E6: =C6*D6 -> 0
E7: =C7*D7 -> 0
E8: =C8*D8 -> 0
E9: =C9*D9 -> 0
E10: =C10*D10 -> 0
E11: =C11*D11 -> 0
E12: =C12*D12 -> 0
E13: =C13*D13 -> 0
E14: =C14*D14 -> 0
E15: =C15*D15 -> 0
E16: =C16*D16 -> 0
... E18: =C18*D18 -> 0
D20: Total | E20: =SUM(E5:E18) -> 0
A25: Mise à dispositon de biens
A26: Description | B26: Organisme | C26: Montant unitaire | D26: Quantité | E26: Montant total
E27: =C27*D27 -> 0
E28: =C28*D28 -> 0
E29: =C29*D29 -> 0
E30: =C30*D30 -> 0
E31: =C31*D31 -> 0
E32: =C32*D32 -> 0
E33: =C33*D33 -> 0
E34: =C34*D34 -> 0
E35: =C35*D35 -> 0
D37: Total | E37: =SUM(E27:E35) -> 0

Sheet Amortissements
A2: Amortissements du matériel
A3: Matériel | B3: acheté en | C3: prix | D3: années à amortir | E3: Taux affectation projet | F3: Montant
B4: 2016 | C4: 0 | D4: 1 | E4: 0 | F4: =C4/D4*E4 -> 0
B5: 2019 | D5: 1 | F5: =C5/D5*E5 -> 0
B6: 2015 | D6: 1 | F6: =C6/D6*E6 -> 0
B7: 2015 | D7: 1 | F7: =C7/D7*E7 -> 0
B8: 2019 | D8: 1 | F8: =C8/D8*E8 -> 0
D9: 1 | F9: =C9/D9*E9 -> 0
D10: 1 | F10: =C10/D10*E10 -> 0
D11: 1 | F11: =C11/D11*E11 -> 0
E13: TOTAL | F13: =SUM(F4:F11) -> 0
